BEGIN:VCALENDAR
VERSION:2.0
PRODID:-// - ECPv6.15.20//NONSGML v1.0//EN
CALSCALE:GREGORIAN
METHOD:PUBLISH
X-ORIGINAL-URL:https://boracultura.com.br
X-WR-CALDESC:Eventos para 
REFRESH-INTERVAL;VALUE=DURATION:PT1H
X-Robots-Tag:noindex
X-PUBLISHED-TTL:PT1H
BEGIN:VTIMEZONE
TZID:America/Sao_Paulo
BEGIN:STANDARD
TZOFFSETFROM:-0300
TZOFFSETTO:-0300
TZNAME:-03
DTSTART:20250101T000000
END:STANDARD
END:VTIMEZONE
BEGIN:VEVENT
DTSTART;TZID=America/Sao_Paulo:20260226T080000
DTEND;TZID=America/Sao_Paulo:20260308T170000
DTSTAMP:20260423T134750
CREATED:20260115T145111Z
LAST-MODIFIED:20260219T024655Z
UID:740-1772092800-1772989200@boracultura.com.br
SUMMARY:Festival Salvador Gastronomia
DESCRIPTION:A capital baiana acaba de entrar na rota dos grandes eventos culinários do Brasil com o lançamento do Salvador Gastronomia. Entre os dias 26 de fevereiro e 8 de março\, o Centro Histórico será transformado em um polo de experiências culturais e sabores autorais. \nDestaques do Evento: \nO festival\, chancelado pela Prefeitura\, busca unir turismo\, história e a força da culinária local em uma plataforma democrática. Confira os principais eixos: \n\nPraça Tomé de Souza: Funcionará como o coração do evento\, abrigando uma feira a céu aberto com pratos em formato pocket e preços acessíveis.\nPalacete Tira-Chapéu: Na icônica Rua Chile\, o espaço servirá como hub gastronômico\, recebendo operações de peso como o Pala7 (Claude Troisgros)\, Casaría e o restaurante Preta.\nExperiência Completa: Além da comida\, o público contará com exposições\, programação cultural\, feira de produtores regionais e espaço kids.\nImpacto e Inovação\nIdealizado pela Agência California em parceria com Ana Coelho e o Palacete Tira-Chapéu\, o projeto visa consolidar o Centro Histórico como um distrito de lazer e desenvolvimento econômico. Segundo os organizadores\, o objetivo é utilizar a gastronomia como linguagem cultural para reconectar moradores e turistas ao patrimônio da cidade.\n\nServiço: \nEvento: Salvador Gastronomia\nData: 26 de fevereiro a 8 de março de 2026\nLocal: Centro Histórico (Praça Tomé de Souza\, Rua Chile e Palacete Tira-Chapéu)\nEntrada: Gratuita (atividades em áreas públicas)\nRealização: Agência California\, Palacete Tira-Chapéu e Ana Coelho\, com apoio da Prefeitura de Salvador.
URL:https://boracultura.com.br/index.php/evento/740/
LOCATION:Centro Histórico Salvador\, Centro de Salvador\, Salvador\, Bahia\, Brazil
CATEGORIES:Gastronomia
ATTACH;FMTTYPE=image/jpeg:https://boracultura.com.br/wp-content/uploads/2026/01/Salvador-festival-gastronomico.jpg
END:VEVENT
END:VCALENDAR