BEGIN:VCALENDAR
VERSION:2.0
PRODID:-// - ECPv6.15.20//NONSGML v1.0//EN
CALSCALE:GREGORIAN
METHOD:PUBLISH
X-ORIGINAL-URL:https://boracultura.com.br
X-WR-CALDESC:Eventos para 
REFRESH-INTERVAL;VALUE=DURATION:PT1H
X-Robots-Tag:noindex
X-PUBLISHED-TTL:PT1H
BEGIN:VTIMEZONE
TZID:America/Sao_Paulo
BEGIN:STANDARD
TZOFFSETFROM:-0300
TZOFFSETTO:-0300
TZNAME:-03
DTSTART:20250101T000000
END:STANDARD
END:VTIMEZONE
BEGIN:VEVENT
DTSTART;TZID=America/Sao_Paulo:20260305T090000
DTEND;TZID=America/Sao_Paulo:20260513T173000
DTSTAMP:20260423T134633
CREATED:20260224T114711Z
LAST-MODIFIED:20260320T025854Z
UID:1443-1772701200-1778693400@boracultura.com.br
SUMMARY:Exposição "Hoje É De Vez Em Quando"
DESCRIPTION:Caixa Cultural Salvador apresenta a Exposição “Hoje É De Vez Em Quando”\, De Fábio Baroli \nMostra reúne 35 obras e propõe um questionamento sobre a noção de tempo no mundo contemporâneo \nSERVIÇO: \n[Artes Visuais] Exposição “Hoje é de vez em quando”\nCAIXA Cultural Salvador – Rua Carlos Gomes\, 57\, Centro\nPeríodo de visitação: 5 de março a 13 de maio de 2026\nHorário de visitação: terça-feira a domingo\, das 9h às 17h30\nEntrada gratuita\nClassificação etária: Livre\nInformações: Site CAIXA Cultural | Instagram: @caixaculturalsalvador\nAcesso para pessoas com deficiência\nTodas as imagens da exposição possuem recurso de audiodescrição\nPatrocínio: CAIXA e Governo Federal \nSaiba mais!  \n 
URL:https://boracultura.com.br/index.php/evento/exposicao-hoje-e-de-vez-em-quando/
LOCATION:Bahia
CATEGORIES:Fotografia
ATTACH;FMTTYPE=image/png:https://boracultura.com.br/wp-content/uploads/2026/02/9AOkpjMjBTZzAjOyJmLt92YuEmc1RHb1NWYy9mYAFGdzlGbh5mcvpmOwEDN4YDM3MDN6cmbw5iNiFzN1YDZhNWZhFjMjV2YxMGZ2UWOmNTN2UWZycDMwYkMlcDMwYkMlQTMxUjMGJTJ1IzMxEzMwIDNz8VL1ETLf9VLwITLfpDM.png
END:VEVENT
BEGIN:VEVENT
DTSTART;TZID=America/Sao_Paulo:20260320T080000
DTEND;TZID=America/Sao_Paulo:20260418T170000
DTSTAMP:20260423T134633
CREATED:20260402T191412Z
LAST-MODIFIED:20260402T191412Z
UID:2493-1773993600-1776531600@boracultura.com.br
SUMMARY:Mostra 477 – 477 anos da Cidade da Bahia
DESCRIPTION:Salvador ganha uma homenagem monumental para celebrar seus 477 anos. A partir de sexta-feira (20/03)\, o Museu da Misericórdia abriu as portas para a Mostra 477 – 477 anos da Cidade da Bahia\, uma exposição que reúne o talento de 62 artistas plásticos baianos ou radicados na Bahia. A coletiva apresenta um panorama vibrante da capital através de fotografias\, desenhos\, esculturas e pinturas que exploram a fé\, a história e a efervescência cultural da primeira capital do Brasil.\n​Com curadoria do artista Chico Mazzoni e da museóloga Ângela Petitinga\, a exposição promove um diálogo entre diferentes gerações e técnicas — incluindo desde a arte digital até o milenar método japonês Raku. Um dos grandes destaques é o tributo ao mestre Carybé\, com a exibição de duas obras do imortal intérprete da alma baiana. A mostra\, que pretende se tornar um evento anual no calendário da cidade\, fica em cartaz até o dia 18 de abril\, reafirmando Salvador como um inesgotável caldeirão de criatividade.\n\n\n\nSERVIÇO:\n​Exposição: Mostra 477 – 477 anos da Cidade da Bahia\nLocal: Museu da Misericórdia (Rua da Misericórdia\, nº 6\, Praça da Sé\, Salvador)\nData: 20 de março a 18 de abril de 2026\nHorário de Visitação: * Terça a sexta: 09h às 17h\n​Sábados: 09h às 16h30\n(Fechado aos domingos\, segundas e feriados)\nProdução: Expoart\n\n \n\nArtistas participantes\n\n \n\nAna Gradin\nAna Kruschewsky\nAruane Garzedin\nBel Borba\nBernardo Ribeiro Tochilovsky\nBruno Pomponet\nCarlos C R Luz\nCarmen Freaza\nCélia Mallett\nChico Mazzoni\nChristianne Lisboa\nDavi Caramelo\nDodô Villar\nDulce Cardoso\nEnoc Alma\nErickson Britto\nFloro Freire\nFred Sá\nGabriel Pinheiro\nGoya Lopes\nGrace Gradin\nGuache Marques\nHilda Salomão\nIrene Omuro\nJosé Ignacio\nJoão Telles\nJuarez Paraíso\nJuraci Dórea\nLilian Morais\nLorena Presas\nLourenço Mueller\nLuiz Humberto Carvalho\nLuiz Mario\nMarcelo Silva\nMárcia Magno\nMarcos Rodrigues\nMari Simas\nMaria Luedy\nMaria Nazaré Santos\nMarta Suzi\nMurilo Ribeiro\nNeide Cortizo\nNeto Robatto\nOrdep Serra\nPaula Magno\nPaulo Canuto\nPico Garcez\nRamiro Bernabó\nRachel Mascarenhas\nRebouças\nReinaldo Giarola\nRejane Alice\nSérgio Rabinovitz\nSílvio Carvalho\nSuy Andrade\nTeka Portela\nTati Sampaio\nUlla Von Czékus\nVânia Viana\nViga Gordilho\nWaldo Robatto\nXico Diniz\n\n \n\nObra em destaque: Ulla von Czékus – SACHÊS DE SÃO FRANCISCO
URL:https://boracultura.com.br/index.php/evento/mostra-477-477-anos-da-cidade-da-bahia/
LOCATION:Museu da Misericórdia\, R. da Misericórdia\, 06 - Centro Histórico\, Salvador\, Bahia\, 40020-200\, Brazil
CATEGORIES:Exposição
ATTACH;FMTTYPE=image/jpeg:https://boracultura.com.br/wp-content/uploads/2026/03/Ulla-von-Czekus-SACHES-DE-SAO-FRANCISCO-060-m-x-090-m-Impressao-fotografica-–-2017-scaled.jpg
END:VEVENT
BEGIN:VEVENT
DTSTART;TZID=America/Sao_Paulo:20260323T093000
DTEND;TZID=America/Sao_Paulo:20260405T170000
DTSTAMP:20260423T134633
CREATED:20260323T124018Z
LAST-MODIFIED:20260323T124018Z
UID:2257-1774258200-1775408400@boracultura.com.br
SUMMARY:Exposição: Mulheres Fotografam a Bahia
DESCRIPTION:Exposição Mulheres fotografam a Bahia chega ao Shopping Barra \nPara marcar o Mês da Mulher\, 30 fotógrafas apresentam ao público imagens que capturam a essência da Bahia a partir de olhares diversos e sensíveis \nA exposição Mulheres fotografam a Bahia estreia nesta quinta-feira (19)\, no Shopping Barra\, como parte das celebrações do Mês da Mulher\, iniciadas com o reconhecido Prêmio Barra Mulher. Realizada em parceria com o Caixa Mágica – grupo dedicado à promoção da cultura e das artes – a mostra apresenta uma coletânea de 30 fotografias assinadas por 30 fotógrafas que capturam a essência da Bahia a partir de olhares diversos e sensíveis. A luz do nosso estado sob a perspectivas de mulheres e revelada em poesia. \n“A exposição Mulheres fotografam a Bahia reafirma o talento e a sensibilidade das fotógrafas\, em um mês especial\, em que celebramos o poder feminino. Convidamos o público a enxergar a Bahia através desses pontos de vista plurais e conectados à cultura. Ao reunir obras produzidas exclusivamente por mulheres\, reforçamos a diversidade e visibilidade às vozes femininas. A exposição está em sintonia com o Barra Mulher\, premiação que honra trajetórias transformadoras e inspiradoras de baianas”\, a gerente de Marketing do Shopping Barra\, Karina Brito. \nA mostra – aberta ao público no Barra Gourmet (Piso L1) – apresenta ainda registros dedicados aos 477 anos da capital Salvador\, celebrados no próximo dia 29 de março.  Da fé que move multidões às cores vibrantes das ruas\, do silêncio das paisagens naturais à potência cultural que pulsa em cada canto. Cada imagem revela não apenas cenários\, mas histórias\, memórias e sentimentos traduzidos pela sensibilidade feminina. A exposição é um manifesto visual\, uma afirmação do talento\, da força criativa e da importância das mulheres na construção da narrativa cultural baiana. \n“Ter sido co-curadora desta exposição foi ter contato com toda a potência da fotografia feminina baiana. Uma experiência absolutamente incrível e encantadora”\, comentou Lu Brito\, fotógrafa premiada no Brasil e no Exterior\, que faz parte da mostra\, através da Caixa Mágica – projeto dos fotógrafos Giácomo Mancini\, Tarciso Albuquerque e Fernando Antônio. Também participa da exposição a jornalista Camila Marinho\, premiada em 2025 com o troféu Barra Mulher. \n \nMostra Mulheres fotografam a Bahia. Fotografias: Sinísia Coni e Camila Marinho\, respectivamente da esquerda para a direita.\n\n \n\nBarra Mulher 2026 \n            Além de conhecer o trabalho de importantes nomes da fotografia\, o público do Shopping tem a oportunidade de visitar\, também no Barra Gourmet (Piso L1)\, a Exposição Barra Mulher 2026\, que apresenta as trajetórias das vencedoras da 17ª edição da premiação. Forças femininas que modificam vidas de outras mulheres\, com um efeito multiplicador. \nEm 2026\, foram homenageadas a defensora pública Aléssia Tuxá\, a multiartista Ana Mametto\, a Tenente-Coronel da Polícia Militar da Bahia Cláudia Mara\, a desembargadora Cynthia Pina\, a líder religiosa do Candomblé Ekedy Sinha\, as escritoras Emília Nuñez e Mariana Paiva (Voto Popular)\, a jornalista Georgina Maynart\, a cantora e apresentadora Larissa Luz\, a jornalista e museóloga Zuleica Andrade\, a empresária Felisa Presas (Empreendedora Shopping Barra) e a sócia-diretora da Enashopp Mirela Gedeon (Menção Honrosa). Visitar as exposições Mulheres fotografam a Bahia e Barra Mulher 2026 é honrar a força\, a criatividade e o protagonismo das mulheres na sociedade. \n\nParticipam da exposição Mulheres Fotografam a Bahia as fotógrafas: \nAdriana Franco\, Alini Orathes\, Ângela Fonsêca\, Áurea SantAnna\, Camila Marinho\, Camile Barreto\, Carina Sampaio\, Chris Nejaim\, Cris Nunes\, Cristine Prates\, Cris Telles\, Adrielly Martins\, Edna Caldas\, Eunice Dehoux\, Fernanda Cabral\, Fernanda Vasconcellos\, Isadora Rocha\, Ivana Coutinho\, Ji Costa Montenegro\, Lívia Oliveira\, Lu Brito\, Márcia Ribeiro\, Mariana Seixas\, Norma Fernandes\, Rosana Barbosa\, Sandra Coelho\, Sandra Tegerizo\, Sinísia Coni\, Tatiana Menezes e Técia Borges. \n  \nSERVIÇOS: \nExposição Mulheres Fotografam a Bahia \nHorário: segunda-feira a sábado\, das 9h às 22h; domingo\, das 12h às 20h. \nQuando: 19 de março a 05 de abril. \nLocal: Shopping Barra\, Piso L1 – Barra Gourmet. \n  \nExposição Barra Mulher 2026 \nHorário: segunda-feira a sábado\, das 9h às 22h; domingo\, das 12h às 20h. \nQuando: 12 a 31 de março. \nLocal: Shopping Barra\, Piso L1 – Barra Gourmet. \n 
URL:https://boracultura.com.br/index.php/evento/exposicao-mulheres-fotografam-a-bahia/
LOCATION:Shopping Barra\, Shopping Barra\, Salvador\, Bahia\, Brazil
CATEGORIES:Exposição
ATTACH;FMTTYPE=image/jpeg:https://boracultura.com.br/wp-content/uploads/2026/03/17742689976541533787713415580673-e1774269045753.jpg
END:VEVENT
BEGIN:VEVENT
DTSTART;TZID=America/Sao_Paulo:20260403T080000
DTEND;TZID=America/Sao_Paulo:20260405T170000
DTSTAMP:20260423T134633
CREATED:20260401T110321Z
LAST-MODIFIED:20260401T110321Z
UID:2432-1775203200-1775408400@boracultura.com.br
SUMMARY:Terno das Almas: Exposição
DESCRIPTION:Terno das Almas: Exposição gratuita no Santo Antônio Além do Carmo homenageia ritual da Chapada Diamantina \n​A partir desta sexta-feira\, 27 de março\, o ME Ateliê da Fotografia\, situado no charmoso bairro do Santo Antônio Além do Carmo\, sedia a exposição “Terno das Almas”. A mostra é uma homenagem à histórica procissão de fé realizada pelas moradoras da vila de Igatu\, em Mucugê\, na Chapada Diamantina. Com entrada gratuita\, a exposição reúne 16 obras inéditas que capturam a essência\, os cânticos e o mistério desse ritual serrano através do olhar de artistas do Brasil e dos Estados Unidos. \n​Fé\, Memória e a Retomada de uma Tradição\n​O ritual do Terno das Almas\, marcado pelas vestes brancas e orações em favor dos entes queridos\, serve de inspiração para a curadoria assinada pelo fotógrafo Reinaldo Giarola. A exposição busca valorizar as práticas religiosas que quase desapareceram com o esvaziamento das Lavras Diamantinas no século passado\, mas que foram retomadas com força nas últimas décadas.\n​Os visitantes poderão contemplar pinturas\, fotografias e expressões artísticas que destacam elementos icônicos do rito\, como os lençóis brancos\, a cruz de Cristo bordada e a serenidade das noites de procissão. “Registrei a evolução da retomada deste grande e necessário movimento nas últimas duas décadas”\, revela Giarola. Segundo o anfitrião do espaço\, Mário Edson\, as obras traduzem o encontro entre a luz rarefeita das noites de Igatu e a densidade simbólica desse patrimônio imaterial baiano. \n​Artistas Participantes\n​A mostra plural conta com a sensibilidade de fotógrafos e artistas plásticos renomados:\nAcson Barbosa\, Ana Kruschewsky\, Armando Cr\, Cesari Simioni\, Dorges Studart\, Gelaryn Shukwit (EUA)\, Giácomo Mancini\, Henrique Muccini\, Magali Abreu\, Marcelo Edington\, Rebouças\, Reinaldo Giarola\, Ricardo Macedo\, Tarciso Albuquerque\, Vânia Viana e Vini Chapada. \n​Serviço\n​Evento: Exposição “Terno das Almas”\n​Data: De 27 de março a 26 de abril de 2026\n​Visitação: Sexta a domingo\, das 16h às 19h (Abertura dia 27/03 às 19h)\n​Local: ME Ateliê da Fotografia\n​Endereço: Ladeira do Boqueirão\, Santo Antônio Além do Carmo\, Salvador – BA\n​Entrada: Gratuita
URL:https://boracultura.com.br/index.php/evento/terno-das-almas-exposicao-2/
LOCATION:Bahia
CATEGORIES:Exposição
ATTACH;FMTTYPE=image/jpeg:https://boracultura.com.br/wp-content/uploads/2026/03/17742706371031443251001865871916.jpg
END:VEVENT
BEGIN:VEVENT
DTSTART;TZID=America/Sao_Paulo:20260403T160000
DTEND;TZID=America/Sao_Paulo:20260404T220000
DTSTAMP:20260423T134633
CREATED:20260224T183138Z
LAST-MODIFIED:20260401T204709Z
UID:1478-1775232000-1775340000@boracultura.com.br
SUMMARY:Show: Menos é Mais e Thiaguinho
DESCRIPTION:  \n                                                                     Foto: Divulgação\nO feriadão da Semana Santa ganha uma trilha sonora à altura do cenário: o Santa Maré\, novo evento que estreia nos dias 3 e 4 de abril no Castelo Garcia D’Ávila\, na Praia do Forte\, reúne grandes nomes da música nacional e baiana em um formato intimista à beira do litoral. \nA proposta do festival vai além dos shows. Com uma atmosfera pensada para criar proximidade entre público e artistas\, o Santa Maré aposta na experiência — e o cenário histórico do Castelo Garcia D’Ávila funciona como moldura ideal para quem quer curtir o feriado de forma diferenciada. \nO line-up é robusto: no dia 3\, Uel abre os trabalhos\, seguido por Menos é Mais e Filhos de Jorge. No dia 4\, Diggo\, Thiaguinho e Timbalada fecham a primeira edição do evento com chave de ouro. \nOs ingressos estão disponíveis na plataforma Ingresse\, com valores a partir de R$ 230\, em lotes limitados. \nServiço\nSanta Maré\n📅 3 e 4 de abril de 2025\n🕓 A partir das 16h\n📍 Castelo Garcia D’Ávila — Praia do Forte\, Bahia\n🎟️ Ingressos a partir de R$ 230 — à venda em: https://www.ingresse.com
URL:https://boracultura.com.br/index.php/evento/santa-mare-reune-menos-e-mais-e-thiaguinho-em-praia-do-forte-na-semana-santa/
LOCATION:Castelo Garcia D’Ávila\, Castelo Garcia D’Ávila\, Salvador\, Bahia\, Brazil
CATEGORIES:Música
ATTACH;FMTTYPE=image/jpeg:https://boracultura.com.br/wp-content/uploads/2026/02/17719554048571133943061340532388-e1771957727325.jpg
END:VEVENT
BEGIN:VEVENT
DTSTART;TZID=America/Sao_Paulo:20260404T160000
DTEND;TZID=America/Sao_Paulo:20260404T160000
DTSTAMP:20260423T134633
CREATED:20260319T002813Z
LAST-MODIFIED:20260319T004421Z
UID:2143-1775318400-1775318400@boracultura.com.br
SUMMARY:​Espetáculo "Fala\, Ìbejì"
DESCRIPTION:Espetáculo “Fala\, Ìbejì” leva a magia do Caruru e da ancestralidade para as praças de Salvador \n​Salvador se prepara para receber um projeto que une fé\, arte e gastronomia em plena rua. O espetáculo infantojuvenil “Fala\, Ìbejì”\, realizado pelo COOXIA Coletivo Teatral\, inicia sua temporada gratuita no dia 27 de março\, circulando por diversos bairros da capital baiana. A montagem é uma verdadeira celebração da cultura afro-brasileira\, utilizando o cheiro do dendê\, o som dos atabaques e a ludicidade das brincadeiras de terreiro para contar uma história de resistência e alegria. \n​Com dramaturgia de Luiz Antônio Sena Jr. e direção de Guilherme Hunder\, a obra é bilíngue — integrando Português\, Libras e Yorubá — garantindo acessibilidade e o resgate da tradição oral. A trama acompanha a preparação de um caruru na casa de Mãe Mainha\, onde as crianças Menino\, Menina\, Guri e Erê precisam usar a esperteza para vencer a Morte (chamada apenas de “Ela”) através da dança e do toque ininterrupto dos tambores. \n​O projeto vai além do palco improvisado na rua\, integrando o experimento “Dupla de Dois”\, que promove oficinas de teatro afro-gastronômico em escolas públicas. Nessas atividades\, os ingredientes do caruru tornam-se metáforas dos elementos teatrais\, como o quiabo representando o elenco e o dendê a iluminação. A cenografia de Erick Saboya e os figurinos de Guilherme Hunder reforçam essa estética\, utilizando caixotes de feira\, bacias de ferro e sacos de linhagem para transformar a praça em um quintal de memórias ancestrais. \nAgenda de estreia – Temporada 2026\nRibeira\n📍 Largo do Papagaio\n• 27/03/2026 (sexta-feira)\, às 15h\n• 28/03/2026 (sábado)\, às 16h \nCajazeiras\n📍 Campo da Pronaica\n• 30 e 31/03/2026 (segunda e terça-feira)\, às 15h \nSubúrbio Ferroviário – Plataforma\n📍 Praça São Brás\n• 01/04/2026 (quarta-feira)\, às 15h\n• 02/04/2026 (quinta-feira)\, às 16h \nCentro Histórico\n📍 Largo do Campo Grande (Praça Dois de Julho)\n• 04 a 12/04/2026\n(quintas e sextas\, às 15h | sábados e domingos\, às 16h)
URL:https://boracultura.com.br/index.php/evento/espetaculo-fala-ibeji-6/
LOCATION:Praça Dois de Julho\, Largo do Campo Grande\, Praça Dois de Julho\, s/n\, Salvador\, Bahia\, Brazil
CATEGORIES:Infantojuvenil
ATTACH;FMTTYPE=image/png:https://boracultura.com.br/wp-content/uploads/2026/03/17737769783565034589312908323533-e1773777071363.png
END:VEVENT
BEGIN:VEVENT
DTSTART;TZID=America/Sao_Paulo:20260404T160000
DTEND;TZID=America/Sao_Paulo:20260404T170000
DTSTAMP:20260423T134633
CREATED:20260330T204645Z
LAST-MODIFIED:20260330T204645Z
UID:2399-1775318400-1775322000@boracultura.com.br
SUMMARY:Musica: Na Rua com Renanzinho 3.0
DESCRIPTION:No próximo dia 04 de abril\, Renanzinho CBX realiza mais uma edição do projeto “Na Rua com Renanzinho”\, evento gratuito que vem se consolidando como um dos mais aguardados da Cidade Baixa\, em Salvador.\nIdealizado pelo próprio artista\, o projeto tem como principal objetivo valorizar a cultura local\, promovendo momentos de lazer\, música e celebração para os moradores da região onde Renanzinho nasceu e foi criado.\n\nAlém disso\, a iniciativa também contribui diretamente para o fortalecimento da economia local\, movimentando o comércio e incentivando empreendedores da comunidade.\nNesta edição especial\, o cantor aproveita a energia do público e a força simbólica da Ribeira para gravar seu mais novo audiovisual.\n\n \n\nSERVIÇO\n\n \n\nEvento: Na Rua com Renanzinho 3.0\nArtista: Renanzinho CBX\nData: 04 de abril\nHorário: A partir das 16h\nLocal: TV. Vila União\, Ribeira | Salvador (BA)\nEntrada: Gratuita\n\n \n\nEvento aberto ao público\, sujeito à lotação.
URL:https://boracultura.com.br/index.php/evento/musica-na-rua-com-renanzinho-3-0/
LOCATION:Bahia
CATEGORIES:Música
ATTACH;FMTTYPE=image/jpeg:https://boracultura.com.br/wp-content/uploads/2026/03/17749034892339070661028323277988-scaled.jpg
END:VEVENT
BEGIN:VEVENT
DTSTART;TZID=America/Sao_Paulo:20260404T170000
DTEND;TZID=America/Sao_Paulo:20260404T170000
DTSTAMP:20260423T134633
CREATED:20260401T212019Z
LAST-MODIFIED:20260401T212019Z
UID:2466-1775322000-1775322000@boracultura.com.br
SUMMARY:É o Tchan Agita a Feira de Caxixis
DESCRIPTION:É o Tchan Agita a Feira de Caxixis em Nazaré das Farinhas neste Sábado (04) \nUm dos grupos mais queridos do Brasil desembarca no Recôncavo Baiano neste fim de semana. O É o Tchan se apresenta na Feira de Caxixis\, em Nazaré das Farinhas\, no sábado\, 4 de abril\, a partir das 17h\, prometendo uma tarde de muito axé e energia para o público presente. \nNo repertório\, clássicos que marcaram gerações: “Dança do Bumbum”\, “A Nova Loira do Tchan” e “Põe Põe” dividem o palco com o lançamento mais recente da banda\, “Princesinha”\, já disponível nas plataformas digitais (https://onerpm.link/princesinhadotchan_). Os vocalistas Compadre Washington e Beto Jamaica já avisam: “Temos um carinho enorme pelo público do interior da Bahia! Vamos preparar um showzão para não deixar ninguém parado!” \nA Feira de Caxixis\, consolidada como a maior feira de cerâmica e artesanato ao ar livre da América Latina\, acontece entre os dias 2 e 5 de abril durante a Semana Santa\, reunindo shows musicais\, artesanato\, gastronomia e atividades culturais. A entrada é gratuita e a expectativa é de mais de 100 mil visitantes ao longo do evento. \nServiço\nÉ o Tchan na Feira de Caxixis 2026\n📅 Sábado\, 4 de abril de 2026\n🕔 A partir das 17h\n📍 Nazaré das Farinhas — Recôncavo Baiano\, BA\n🎟️ Entrada gratuita\n🎵 “Princesinha”: https://onerpm.link/princesinhadotchan_
URL:https://boracultura.com.br/index.php/evento/e-o-tchan-agita-a-feira-de-caxixis/
LOCATION:Nazaré das Farinhas\, Brazil
CATEGORIES:Festa Popular
ATTACH;FMTTYPE=image/png:https://boracultura.com.br/wp-content/uploads/2026/03/1774441982216.png
END:VEVENT
END:VCALENDAR