BEGIN:VCALENDAR
VERSION:2.0
PRODID:-// - ECPv6.15.20//NONSGML v1.0//EN
CALSCALE:GREGORIAN
METHOD:PUBLISH
X-ORIGINAL-URL:https://boracultura.com.br
X-WR-CALDESC:Eventos para 
REFRESH-INTERVAL;VALUE=DURATION:PT1H
X-Robots-Tag:noindex
X-PUBLISHED-TTL:PT1H
BEGIN:VTIMEZONE
TZID:America/Sao_Paulo
BEGIN:STANDARD
TZOFFSETFROM:-0300
TZOFFSETTO:-0300
TZNAME:-03
DTSTART:20250101T000000
END:STANDARD
END:VTIMEZONE
BEGIN:VEVENT
DTSTART;TZID=America/Sao_Paulo:20260305T090000
DTEND;TZID=America/Sao_Paulo:20260513T173000
DTSTAMP:20260423T165913
CREATED:20260224T114711Z
LAST-MODIFIED:20260320T025854Z
UID:1443-1772701200-1778693400@boracultura.com.br
SUMMARY:Exposição "Hoje É De Vez Em Quando"
DESCRIPTION:Caixa Cultural Salvador apresenta a Exposição “Hoje É De Vez Em Quando”\, De Fábio Baroli \nMostra reúne 35 obras e propõe um questionamento sobre a noção de tempo no mundo contemporâneo \nSERVIÇO: \n[Artes Visuais] Exposição “Hoje é de vez em quando”\nCAIXA Cultural Salvador – Rua Carlos Gomes\, 57\, Centro\nPeríodo de visitação: 5 de março a 13 de maio de 2026\nHorário de visitação: terça-feira a domingo\, das 9h às 17h30\nEntrada gratuita\nClassificação etária: Livre\nInformações: Site CAIXA Cultural | Instagram: @caixaculturalsalvador\nAcesso para pessoas com deficiência\nTodas as imagens da exposição possuem recurso de audiodescrição\nPatrocínio: CAIXA e Governo Federal \nSaiba mais!  \n 
URL:https://boracultura.com.br/index.php/evento/exposicao-hoje-e-de-vez-em-quando/
LOCATION:Bahia
CATEGORIES:Fotografia
ATTACH;FMTTYPE=image/png:https://boracultura.com.br/wp-content/uploads/2026/02/9AOkpjMjBTZzAjOyJmLt92YuEmc1RHb1NWYy9mYAFGdzlGbh5mcvpmOwEDN4YDM3MDN6cmbw5iNiFzN1YDZhNWZhFjMjV2YxMGZ2UWOmNTN2UWZycDMwYkMlcDMwYkMlQTMxUjMGJTJ1IzMxEzMwIDNz8VL1ETLf9VLwITLfpDM.png
END:VEVENT
BEGIN:VEVENT
DTSTART;TZID=America/Sao_Paulo:20260320T080000
DTEND;TZID=America/Sao_Paulo:20260418T170000
DTSTAMP:20260423T165913
CREATED:20260402T191412Z
LAST-MODIFIED:20260402T191412Z
UID:2493-1773993600-1776531600@boracultura.com.br
SUMMARY:Mostra 477 – 477 anos da Cidade da Bahia
DESCRIPTION:Salvador ganha uma homenagem monumental para celebrar seus 477 anos. A partir de sexta-feira (20/03)\, o Museu da Misericórdia abriu as portas para a Mostra 477 – 477 anos da Cidade da Bahia\, uma exposição que reúne o talento de 62 artistas plásticos baianos ou radicados na Bahia. A coletiva apresenta um panorama vibrante da capital através de fotografias\, desenhos\, esculturas e pinturas que exploram a fé\, a história e a efervescência cultural da primeira capital do Brasil.\n​Com curadoria do artista Chico Mazzoni e da museóloga Ângela Petitinga\, a exposição promove um diálogo entre diferentes gerações e técnicas — incluindo desde a arte digital até o milenar método japonês Raku. Um dos grandes destaques é o tributo ao mestre Carybé\, com a exibição de duas obras do imortal intérprete da alma baiana. A mostra\, que pretende se tornar um evento anual no calendário da cidade\, fica em cartaz até o dia 18 de abril\, reafirmando Salvador como um inesgotável caldeirão de criatividade.\n\n\n\nSERVIÇO:\n​Exposição: Mostra 477 – 477 anos da Cidade da Bahia\nLocal: Museu da Misericórdia (Rua da Misericórdia\, nº 6\, Praça da Sé\, Salvador)\nData: 20 de março a 18 de abril de 2026\nHorário de Visitação: * Terça a sexta: 09h às 17h\n​Sábados: 09h às 16h30\n(Fechado aos domingos\, segundas e feriados)\nProdução: Expoart\n\n \n\nArtistas participantes\n\n \n\nAna Gradin\nAna Kruschewsky\nAruane Garzedin\nBel Borba\nBernardo Ribeiro Tochilovsky\nBruno Pomponet\nCarlos C R Luz\nCarmen Freaza\nCélia Mallett\nChico Mazzoni\nChristianne Lisboa\nDavi Caramelo\nDodô Villar\nDulce Cardoso\nEnoc Alma\nErickson Britto\nFloro Freire\nFred Sá\nGabriel Pinheiro\nGoya Lopes\nGrace Gradin\nGuache Marques\nHilda Salomão\nIrene Omuro\nJosé Ignacio\nJoão Telles\nJuarez Paraíso\nJuraci Dórea\nLilian Morais\nLorena Presas\nLourenço Mueller\nLuiz Humberto Carvalho\nLuiz Mario\nMarcelo Silva\nMárcia Magno\nMarcos Rodrigues\nMari Simas\nMaria Luedy\nMaria Nazaré Santos\nMarta Suzi\nMurilo Ribeiro\nNeide Cortizo\nNeto Robatto\nOrdep Serra\nPaula Magno\nPaulo Canuto\nPico Garcez\nRamiro Bernabó\nRachel Mascarenhas\nRebouças\nReinaldo Giarola\nRejane Alice\nSérgio Rabinovitz\nSílvio Carvalho\nSuy Andrade\nTeka Portela\nTati Sampaio\nUlla Von Czékus\nVânia Viana\nViga Gordilho\nWaldo Robatto\nXico Diniz\n\n \n\nObra em destaque: Ulla von Czékus – SACHÊS DE SÃO FRANCISCO
URL:https://boracultura.com.br/index.php/evento/mostra-477-477-anos-da-cidade-da-bahia/
LOCATION:Museu da Misericórdia\, R. da Misericórdia\, 06 - Centro Histórico\, Salvador\, Bahia\, 40020-200\, Brazil
CATEGORIES:Exposição
ATTACH;FMTTYPE=image/jpeg:https://boracultura.com.br/wp-content/uploads/2026/03/Ulla-von-Czekus-SACHES-DE-SAO-FRANCISCO-060-m-x-090-m-Impressao-fotografica-–-2017-scaled.jpg
END:VEVENT
END:VCALENDAR