BEGIN:VCALENDAR
VERSION:2.0
PRODID:-// - ECPv6.15.20//NONSGML v1.0//EN
CALSCALE:GREGORIAN
METHOD:PUBLISH
X-ORIGINAL-URL:https://boracultura.com.br
X-WR-CALDESC:Eventos para 
REFRESH-INTERVAL;VALUE=DURATION:PT1H
X-Robots-Tag:noindex
X-PUBLISHED-TTL:PT1H
BEGIN:VTIMEZONE
TZID:America/Sao_Paulo
BEGIN:STANDARD
TZOFFSETFROM:-0300
TZOFFSETTO:-0300
TZNAME:-03
DTSTART:20250101T000000
END:STANDARD
END:VTIMEZONE
BEGIN:VEVENT
DTSTART;TZID=America/Sao_Paulo:20260305T090000
DTEND;TZID=America/Sao_Paulo:20260513T173000
DTSTAMP:20260423T132157
CREATED:20260224T114711Z
LAST-MODIFIED:20260320T025854Z
UID:1443-1772701200-1778693400@boracultura.com.br
SUMMARY:Exposição "Hoje É De Vez Em Quando"
DESCRIPTION:Caixa Cultural Salvador apresenta a Exposição “Hoje É De Vez Em Quando”\, De Fábio Baroli \nMostra reúne 35 obras e propõe um questionamento sobre a noção de tempo no mundo contemporâneo \nSERVIÇO: \n[Artes Visuais] Exposição “Hoje é de vez em quando”\nCAIXA Cultural Salvador – Rua Carlos Gomes\, 57\, Centro\nPeríodo de visitação: 5 de março a 13 de maio de 2026\nHorário de visitação: terça-feira a domingo\, das 9h às 17h30\nEntrada gratuita\nClassificação etária: Livre\nInformações: Site CAIXA Cultural | Instagram: @caixaculturalsalvador\nAcesso para pessoas com deficiência\nTodas as imagens da exposição possuem recurso de audiodescrição\nPatrocínio: CAIXA e Governo Federal \nSaiba mais!  \n 
URL:https://boracultura.com.br/index.php/evento/exposicao-hoje-e-de-vez-em-quando/
LOCATION:Bahia
CATEGORIES:Fotografia
ATTACH;FMTTYPE=image/png:https://boracultura.com.br/wp-content/uploads/2026/02/9AOkpjMjBTZzAjOyJmLt92YuEmc1RHb1NWYy9mYAFGdzlGbh5mcvpmOwEDN4YDM3MDN6cmbw5iNiFzN1YDZhNWZhFjMjV2YxMGZ2UWOmNTN2UWZycDMwYkMlcDMwYkMlQTMxUjMGJTJ1IzMxEzMwIDNz8VL1ETLf9VLwITLfpDM.png
END:VEVENT
BEGIN:VEVENT
DTSTART;VALUE=DATE:20260416
DTEND;VALUE=DATE:20260420
DTSTAMP:20260423T132157
CREATED:20260408T134652Z
LAST-MODIFIED:20260408T134652Z
UID:2600-1776297600-1776643199@boracultura.com.br
SUMMARY:"Eu\, Zuzu Angel\, agora milito" estreia no Teatro
DESCRIPTION:Martim Gonçalves 50 anos após a morte da estilista assassinada pela Ditadura Militar\nEspetáculo com direção de Sophia Colleti e atuação de Vivianne Laert tem temporada de 15 a 26 de abril em Salvador\, cidade onde Zuzu viveu e deu à luz seu filho Stuart \nCinquenta anos após a morte de Zuleika Angel Jones — a Zuzu Angel —\, assassinada por agentes do regime militar em 14 de abril de 1976\, o Teatro Martim Gonçalves recebe a estreia do espetáculo “Eu\, Zuzu Angel\, agora milito”. A temporada vai de 15 a 26 de abril\, data escolhida intencionalmente: no dia 15\, há exatamente meio século\, realizava-se o funeral da estilista. \nCom dramaturgia e direção de Sophia Colleti — que também atua na peça —\, o espetáculo tem como protagonista a atriz Vivianne Laert no papel de Zuzu\, contracenando com Mano Leone\, que interpreta Stuart e outros personagens masculinos. A montagem transita entre poesia\, ficção e documentário para revisitar a trajetória de uma mulher que fez da moda linguagem de protesto: estilista de projeção internacional\, Zuzu transformou sua carreira em trincheira após o sequestro\, tortura e assassinato de seu filho Stuart\, militante do MR-8\, em 1971. Por cinco anos\, buscou o corpo do filho e denunciou publicamente as circunstâncias de sua morte — até ser ela própria eliminada pelo Estado. \nA encenação articula projeções de vídeo\, intervenções de luz e som e diferentes planos narrativos — do biográfico ao poético — para compor uma dramaturgia de grande densidade histórica e afetiva. Um dos elos com Salvador aparece na própria narrativa: foi na cidade que Zuzu viveu por um período e deu à luz a Stuart\, que nasceu soteropolitano. \nO processo de criação começou em 2017 na UFBA\, dentro do curso de Direção Teatral\, e passou por diferentes formatos ao longo dos anos. Para a estreia em 2026\, a dramaturgia foi inteiramente reescrita\, e o texto ganha publicação em livro pela Alameda Editorial\, com lançamento previsto para abril. O projeto foi contemplado pelo edital Chamadão das Artes Cênicas\, com recursos da Fundação Gregório de Mattos\, Secretaria Municipal de Cultura e Turismo e Prefeitura de Salvador. \nDurante a temporada\, duas sessões mediadas acontecem nas sextas-feiras 17 e 24 de abril\, às 14h30\, com entrada gratuita para alunos\, professores e funcionários da rede pública municipal e para pessoas com deficiência auditiva ou visual. As sessões contam com audiodescrição e Libras\, e são seguidas de bate-papo com o público sobre democracia e memória. \nServiço\n“Eu\, Zuzu Angel\, agora milito”\nLocal: Teatro Martim Gonçalves — Canela\, Salvador\, BA\nTemporada: 15 a 26 de abril de 2026\nQuintas e sextas: 19h | Sábados: 16h e 19h | Domingos: 16h\nIngressos: R$ 50\,00 (inteira) e R$ 25\,00 (meia) — assinantes do Clube Correio têm 40% de desconto\nCompra online: https://bit.ly/4bVz1Q3 | Bilheteria: uma hora antes de cada sessão \nSessões mediadas (gratuitas):\n17 e 24 de abril\, às 14h30 — com audiodescrição e Libras\nPúblico-alvo: alunos\, professores e funcionários da rede pública municipal; pessoas com deficiência auditiva ou visual
URL:https://boracultura.com.br/index.php/evento/eu-zuzu-angel-agora-milito-estreia-no-teatro/
LOCATION:Teatro Martim Gonçalves\, Canela\, Salvador\, Bahia\, Brazil
CATEGORIES:Teatro
ATTACH;FMTTYPE=image/jpeg:https://boracultura.com.br/wp-content/uploads/2026/04/17756559564144273681326605502286-scaled.jpg
END:VEVENT
BEGIN:VEVENT
DTSTART;TZID=America/Sao_Paulo:20260417T080000
DTEND;TZID=America/Sao_Paulo:20260419T170000
DTSTAMP:20260423T132157
CREATED:20260401T110949Z
LAST-MODIFIED:20260401T110949Z
UID:2436-1776412800-1776618000@boracultura.com.br
SUMMARY:Terno das Almas: Exposição
DESCRIPTION:Terno das Almas: Exposição gratuita no Santo Antônio Além do Carmo homenageia ritual da Chapada Diamantina \n​A partir desta sexta-feira\, 27 de março\, o ME Ateliê da Fotografia\, situado no charmoso bairro do Santo Antônio Além do Carmo\, sedia a exposição “Terno das Almas”. A mostra é uma homenagem à histórica procissão de fé realizada pelas moradoras da vila de Igatu\, em Mucugê\, na Chapada Diamantina. Com entrada gratuita\, a exposição reúne 16 obras inéditas que capturam a essência\, os cânticos e o mistério desse ritual serrano através do olhar de artistas do Brasil e dos Estados Unidos. \n​Fé\, Memória e a Retomada de uma Tradição\n​O ritual do Terno das Almas\, marcado pelas vestes brancas e orações em favor dos entes queridos\, serve de inspiração para a curadoria assinada pelo fotógrafo Reinaldo Giarola. A exposição busca valorizar as práticas religiosas que quase desapareceram com o esvaziamento das Lavras Diamantinas no século passado\, mas que foram retomadas com força nas últimas décadas.\n​Os visitantes poderão contemplar pinturas\, fotografias e expressões artísticas que destacam elementos icônicos do rito\, como os lençóis brancos\, a cruz de Cristo bordada e a serenidade das noites de procissão. “Registrei a evolução da retomada deste grande e necessário movimento nas últimas duas décadas”\, revela Giarola. Segundo o anfitrião do espaço\, Mário Edson\, as obras traduzem o encontro entre a luz rarefeita das noites de Igatu e a densidade simbólica desse patrimônio imaterial baiano. \n​Artistas Participantes\n​A mostra plural conta com a sensibilidade de fotógrafos e artistas plásticos renomados:\nAcson Barbosa\, Ana Kruschewsky\, Armando Cr\, Cesari Simioni\, Dorges Studart\, Gelaryn Shukwit (EUA)\, Giácomo Mancini\, Henrique Muccini\, Magali Abreu\, Marcelo Edington\, Rebouças\, Reinaldo Giarola\, Ricardo Macedo\, Tarciso Albuquerque\, Vânia Viana e Vini Chapada. \n​Serviço\n​Evento: Exposição “Terno das Almas”\n​Data: De 27 de março a 26 de abril de 2026\n​Visitação: Sexta a domingo\, das 16h às 19h (Abertura dia 27/03 às 19h)\n​Local: ME Ateliê da Fotografia\n​Endereço: Ladeira do Boqueirão\, Santo Antônio Além do Carmo\, Salvador – BA\n​Entrada: Gratuita
URL:https://boracultura.com.br/index.php/evento/terno-das-almas-exposicao-4/
LOCATION:Bahia
CATEGORIES:Exposição
ATTACH;FMTTYPE=image/jpeg:https://boracultura.com.br/wp-content/uploads/2026/03/17742706371031443251001865871916.jpg
END:VEVENT
BEGIN:VEVENT
DTSTART;TZID=America/Sao_Paulo:20260417T190000
DTEND;TZID=America/Sao_Paulo:20260419T220000
DTSTAMP:20260423T132157
CREATED:20260326T124126Z
LAST-MODIFIED:20260326T124303Z
UID:2356-1776452400-1776636000@boracultura.com.br
SUMMARY:Amar e Mudar as Coisas – Belchior 80
DESCRIPTION:Marisa Orth\, Buhr e Taciana Barros Trazem Tributo a Belchior à CAIXA Cultural Salvador em Abril \nA CAIXA Cultural Salvador recebe\, de 17 a 19 de abril\, o espetáculo Amar e Mudar as Coisas – Belchior 80\, com Marisa Orth\, Buhr e Taciana Barros. A montagem celebra os 80 anos que o cantor e compositor cearense completaria em 2026 e chega à Bahia pela primeira vez\, trazendo três noites de música ao vivo em homenagem a um dos maiores nomes da MPB. \nCom repertório de 15 canções\, o show percorre clássicos como Sujeito de Sorte\, A Palo Seco\, Como Nossos Pais\, Velha Roupa Colorida e Apenas um Rapaz Latino-Americano. A proposta combina releituras autorais\, novos arranjos e momentos narrativos que revisitam a trajetória artística e poética de Belchior\, com textos biográficos e literários assinados pelo jornalista Jotabê Medeiros\, autor da biografia Apenas um Rapaz Latino-Americano (2017). \nNo palco\, Marisa Orth assume os vocais; Buhr responde por voz e percussão; e Taciana Barros — idealizadora do projeto — pela voz\, guitarra e piano. O elenco conta ainda com Estevan Sinkovitz nos violões e guitarras e Zéli Silva no baixo acústico. \nIdealizado em 2017\, o espetáculo percorre o estado de São Paulo há quase uma década\, reinventou-se durante a pandemia em 2020 e chega agora a Salvador em sua edição comemorativa. Para Marisa Orth\, o projeto representa um presente artístico que só cresce com o tempo: “Nosso compromisso é com a obra do Belchior”\, afirma a atriz e cantora.\nA montagem destaca a atualidade do pensamento de Belchior\, marcado pela crítica social\, pelo inconformismo e por uma poesia que atravessa gerações — qualidades que seguem ressoando no Brasil de hoje.\nSERVIÇO \n[MÚSICA] Amar e Mudar as Coisas – Belchior 80\nLocal: CAIXA Cultural Salvador — Rua Carlos Gomes\, 57\, Centro\, Salvador (BA)\nDatas: 17\, 18 e 19 de abril de 2025\nHorários: sexta e sábado às 20h | domingo às 19h\nIngressos: R$ 30 (inteira) e R$ 15 (meia-entrada)\nMeia-entrada: clientes CAIXA e demais casos previstos em lei\nVendas: a partir de 7 de abril\, ao meio-dia\, pelo site www.sympla.com.br\nDuração: 80 minutos\nClassificação: Livre \nAcesso para pessoas com deficiência | Estacionamento gratuito ao lado do espaço\nInformações: www.caixacultural.gov.br | Instagram @caixaculturalsalvador\nPatrocínio: CAIXA e Governo do Brasil
URL:https://boracultura.com.br/index.php/evento/amar-e-mudar-as-coisas-belchior-80/
LOCATION:Caixa Cultural Salvador\, Rua Carlos Gomes\, 57\, Centro\, Salvador\, Bahia\, Brazil
CATEGORIES:Música
ATTACH;FMTTYPE=image/jpeg:https://boracultura.com.br/wp-content/uploads/2026/03/17744406991383214088479367052034-e1774488473484.jpg
END:VEVENT
BEGIN:VEVENT
DTSTART;TZID=America/Sao_Paulo:20260417T200000
DTEND;TZID=America/Sao_Paulo:20260419T220000
DTSTAMP:20260423T132157
CREATED:20260407T205255Z
LAST-MODIFIED:20260407T205255Z
UID:2566-1776456000-1776636000@boracultura.com.br
SUMMARY:Além do Arco-Íris": comédia musical
DESCRIPTION:“Além do Arco-Íris”: comédia musical sobre infância LGBTQIAPN+ chega ao Teatro SESI Rio Vermelho em abril\nCom sessões de 10 a 26 de abril\, espetáculo mistura humor\, música e videomapping para falar sobre pertencimento\, memória afetiva e diversidade na infância \nSalvador recebe em abril o espetáculo “Além do Arco-Íris”\, comédia musical que aborda as experiências de crianças LGBTQIAPN+ com sensibilidade\, humor e uma trilha sonora repleta de referências nostálgicas. A temporada acontece no Teatro SESI Rio Vermelho entre os dias 10 e 26 de abril\, com sessões de sexta a domingo às 20h e uma sessão extra aos sábados\, às 17h. Os ingressos estão à venda pelo Sympla.\nA história se passa no quarto do pequeno Mike\, onde a imaginação se torna um refúgio diante das pressões sociais da infância. Com recursos de videomapping e uma curadoria musical que percorre dos anos 1950 até os anos 2000 — incluindo referências a programas como o da Xuxa —\, o protagonista se transforma no apresentador de seu próprio programa de TV\, no qual memórias e vivências ganham forma de atrações. \nMergulho nas memórias\nO ator Marcos Barretto\, responsável por dar vida a Mike\, vê na peça um reencontro com sua própria infância nos anos 90. Para ele\, o espetáculo chega num momento em que crianças LGBTQIAPN+ já contam com referências que validam sua existência — algo que não existia nas décadas anteriores\, quando a visibilidade da comunidade se resumia frequentemente ao lugar do riso e da ridicularização.\nA narrativa não poupa as contradições do ambiente familiar: uma das personagens centrais é uma mãe que\, ao tentar proteger o filho de um mundo intolerante\, acaba por feri-lo. A cena ressoa com histórias reais de muitas famílias e é um dos pontos mais tocantes da montagem. \nReflexão para todas as gerações\nO autor e diretor Cláudio Simões construiu o espetáculo como uma experiência coletiva de memória e empatia. A seleção das canções foi pensada para que o público de diferentes idades encontre algum ponto de reconexão com sua própria infância ao longo da peça. Mais do que entretenimento\, a proposta é ampliar o debate sobre homofobia e sobre as projeções que a sociedade impõe desde cedo sobre as crianças.\n“Além do Arco-Íris” é uma realização da Multi Planejamento Cultural\, com patrocínio via Programa de Isenção Fiscal Viva Cultura – Salvador\, da Prefeitura de Salvador\, SEFAZ\, SECULT e Fundação Gregório de Mattos (FGM). \nSERVIÇO\nEspetáculo “Além do Arco-Íris”\nLocal: Teatro SESI Rio Vermelho\nDatas: 10\, 11\, 12\, 17\, 18\, 19\, 24\, 25 e 26 de abril (sextas a domingos; dia 10 com sessão especial para convidados)\nHorários: Sextas a domingos às 20h | Sábados também às 17h\nIngressos: R$ 60 (inteira) | R$ 30 (meia-entrada)\nVendas: https://linkme.bio/alemdoarcoiris
URL:https://boracultura.com.br/index.php/evento/alem-do-arco-iris-comedia-musical-2/
LOCATION:Teatro SESI Rio Vermelho\, R. Borges dos Reis\, 9 - Rio Vermelho\, Salvador\, Bahia\, 41950-600\, Brazil
CATEGORIES:Teatro
ATTACH;FMTTYPE=image/jpeg:https://boracultura.com.br/wp-content/uploads/2026/04/17755949098882575538787693007000.jpg
END:VEVENT
BEGIN:VEVENT
DTSTART;TZID=America/Sao_Paulo:20260419T170000
DTEND;TZID=America/Sao_Paulo:20260419T170000
DTSTAMP:20260423T132157
CREATED:20260414T134312Z
LAST-MODIFIED:20260414T153752Z
UID:2691-1776618000-1776618000@boracultura.com.br
SUMMARY:Pietro Leal canta Pirigulino Babilake
DESCRIPTION:No próximo domingo\, 19 de abril\, a Colaboraê\, no Rio Vermelho\, recebe Pietro Leal para um show especial que revisita o repertório da Pirigulino Babilake — banda que deixou marca na cena musical soteropolitana e segue viva na memória afetiva de uma geração. A casa abre às 17h e a apresentação começa às 19h30. \nNo setlist\, canções como Chinelo de Cristal\, Trapezistas no Colchão e Guarda-Chuva ganham novo fôlego\, ao lado de releituras que integravam os shows da banda ao longo de sua trajetória. O palco também será um espaço de reencontro: ao lado de Pietro\, sobem Gugu Pinto\, Vini Nunes\, Davi Brandão e Rafael Menduyn\, integrantes da formação original da Pirigulino Babilake. \nRadicado em São Paulo desde 2014\, Pietro Leal comanda o Baile da Massa Real\, projeto voltado à celebração da música baiana na capital paulista. A noite no Rio Vermelho se apresenta como uma oportunidade para quem viveu aquela época reviver a atmosfera do grupo — e para quem não conhece\, sentir de perto a força dessas canções. \nSERVIÇO\nShow: Pietro Leal – repertório Pirigulino Babilake\nData: 19 de abril de 2026 (domingo)\nLocal: Colaboraê – Rio Vermelho\, Salvador\nAbertura da casa: 17h | Show: 19h30\nIngressos: a partir de R$ 20\nVendas: https://www.sympla.com.br\nClassificação: Livre (menores acompanhados dos responsáveis)
URL:https://boracultura.com.br/index.php/evento/pietro-leal-canta-pirigulino-babilake/
LOCATION:Colaboraê\, R. Borges dos Reis\, 81 – Rio Vermelho\, Salvador\, Bahia\, Brazil
CATEGORIES:Música
ATTACH;FMTTYPE=image/jpeg:https://boracultura.com.br/wp-content/uploads/2026/04/17761739080301101957879075046195.jpg
END:VEVENT
END:VCALENDAR