BEGIN:VCALENDAR
VERSION:2.0
PRODID:-// - ECPv6.15.20//NONSGML v1.0//EN
CALSCALE:GREGORIAN
METHOD:PUBLISH
X-ORIGINAL-URL:https://boracultura.com.br
X-WR-CALDESC:Eventos para 
REFRESH-INTERVAL;VALUE=DURATION:PT1H
X-Robots-Tag:noindex
X-PUBLISHED-TTL:PT1H
BEGIN:VTIMEZONE
TZID:America/Sao_Paulo
BEGIN:STANDARD
TZOFFSETFROM:-0300
TZOFFSETTO:-0300
TZNAME:-03
DTSTART:20250101T000000
END:STANDARD
END:VTIMEZONE
BEGIN:VEVENT
DTSTART;TZID=America/Sao_Paulo:20260409T190000
DTEND;TZID=America/Sao_Paulo:20260412T220000
DTSTAMP:20260423T171928
CREATED:20260409T175833Z
LAST-MODIFIED:20260409T175833Z
UID:2636-1775761200-1776031200@boracultura.com.br
SUMMARY:Teatro Gamboa recebe quatro Shows.
DESCRIPTION:O Teatro Gamboa concentra a agenda musical de Salvador nesta semana. De hoje (9) a domingo (12)\, a casa apresenta quatro shows seguidos em formato intimista\, com atrações que passeiam pelo pop autoral\, MPB e música regional. Antes de cada apresentação acontece o CineGamboa; após os shows\, o PapoGamboa abre espaço para conversa direta com os artistas. \n\n			\n				\n			\n				\n				Nanda Behrens – Foto Aê Comunicação \n				\n			\n				\n			\n				\n				 Peleja Lab – Foto divulgação\n				\n			\n				\n			\n				\n				ERRO7 – Foto: Mateus Dantas \n				\n		\n\nA programação começa hoje (9)\, às 19h\, com a cantora e compositora soteropolitana Bela\, que lança seu primeiro álbum\, Manhãs Sussurradas\, em show minimalista. Em clima intimista\, ela propõe um encontro em que histórias e canções se entrelaçam no palco. \nAmanhã (10)\, às 19h\, é a vez de Brandão — um dos nomes em ascensão da nova cena musical de Salvador — com o show Azul\, uma imersão na obra de Djavan em formato voz e violão. O repertório equilibra clássicos como “Oceano”\, “Meu Bem Querer” e “Outono” com escolhas menos óbvias\, como “Capim” e “Lambada de Serpente”\, propondo uma escuta atenta e centrada na canção. \nNo sábado (11)\, às 17h\, Fernanda Behrens ocupa o palco com A Moça do Sonho: Fernanda Behrens Canta Chico Buarque\, homenagem a uma de suas principais referências musicais. Com banda completa e participação da cantora sergipana Letícia Aranha\, o repertório inclui “Beatriz”\, “João e Maria”\, “Olhos nos Olhos” e uma composição autoral do coletivo envolvido no projeto. \nEncerrando a semana\, no domingo (12)\, às 17h\, o pianista e cantor mineiro Davi Fonseca traz a turnê de lançamento de Viseira\, seu segundo álbum e primeira turnê nacional. O disco usa o jumento — figura simbólica das narrativas do sertão — como ponto de partida para refletir sobre o Brasil. Salvador é uma das últimas paradas antes do encerramento da temporada em Recife. \nSERVIÇO\nTeatro Gamboa — Programação da semana\nHoje (9) — Bela | Manhãs Sussurradas (lançamento) — 19h\nAmanhã (10) — Brandão | Azul — Djavan em voz e violão — 19h\nSábado (11) — Fernanda Behrens | A Moça do Sonho — 17h\nDomingo (12) — Davi Fonseca | Viseira (turnê de lançamento) — 17h\nIngressos: R$ 25 / R$ 50 (presencial) ou R$ 15 (online) — plataforma do Teatro Gamboa
URL:https://boracultura.com.br/index.php/evento/teatro-gamboa-recebe-quatro-shows/
LOCATION:Teatro Gamboa\, Teatro Gamboa\, Salvador\, Bahia\, Brazil
CATEGORIES:Música
ATTACH;FMTTYPE=image/jpeg:https://boracultura.com.br/wp-content/uploads/2026/04/17757570901895865547454268292610-scaled.jpg
END:VEVENT
END:VCALENDAR