BEGIN:VCALENDAR
VERSION:2.0
PRODID:-// - ECPv6.15.20//NONSGML v1.0//EN
CALSCALE:GREGORIAN
METHOD:PUBLISH
X-ORIGINAL-URL:https://boracultura.com.br
X-WR-CALDESC:Eventos para 
REFRESH-INTERVAL;VALUE=DURATION:PT1H
X-Robots-Tag:noindex
X-PUBLISHED-TTL:PT1H
BEGIN:VTIMEZONE
TZID:America/Sao_Paulo
BEGIN:STANDARD
TZOFFSETFROM:-0300
TZOFFSETTO:-0300
TZNAME:-03
DTSTART:20250101T000000
END:STANDARD
END:VTIMEZONE
BEGIN:VEVENT
DTSTART;TZID=America/Sao_Paulo:20260414T200000
DTEND;TZID=America/Sao_Paulo:20260415T200000
DTSTAMP:20260423T153111
CREATED:20260311T130424Z
LAST-MODIFIED:20260330T221256Z
UID:1882-1776196800-1776283200@boracultura.com.br
SUMMARY:Peça "Namíbia\, Não!" direção de Lázaro Ramos
DESCRIPTION:Namíbia\, Não!: Espetáculo comemorativo de 15 anos retorna a Salvador sob direção de Lázaro Ramos. \n​O aclamado espetáculo “Namíbia\, Não!”\, texto de Aldri Anunciação e direção de Lázaro Ramos\, está de volta a Salvador para uma celebração histórica. Com duas únicas apresentações no Teatro Sesc Casa do Comércio\, nos dias 14 e 15 de abril\, a montagem comemora 15 anos de trajetória\, reafirmando-se como um dos marcos mais importantes da dramaturgia negra contemporânea no Brasil.\n​A peça\, que já alcançou mais de um milhão de espectadores ao redor do mundo\, incluindo apresentações em Portugal\, Londres e Alemanha\, serviu de base para o premiado filme “Medida Provisória” (2022). No palco\, os primos Antônio (Aldri Anunciação) e André (Jhonny Salaberg) vivem um confinamento provocado por uma medida governamental autoritária que determina a deportação compulsória de cidadãos com “melanina acentuada” para países da África.\n​Um Mosaico de Vozes da Dramaturgia Brasileira\n​Além da atuação potente no palco\, “Namíbia\, Não!” é conhecido por seu desenho sonoro inovador\, utilizando vozes em off que representam a opressão estatal e a memória afetiva. O público poderá ouvir participações de ícones das artes brasileiras\, como Wagner Moura (no papel do Ministro da Devolução)\, Léa Garcia\, Suely Franco\, Pedro Paulo Rangel e o próprio Lázaro Ramos.\n​Segundo o autor Aldri Anunciação\, essas vozes são decisivas para fechar o cerco narrativo e empurrar os personagens ao limite. A obra transcendeu os palcos ao vencer o Prêmio Jabuti em 2013 na categoria juvenil\, tornando-se um texto-manifesto adotado em escolas e universidades para debater racismo\, políticas migratórias e reparação social.\n​Do Confinamento do Teatro para o Sucesso no Cinema\n​A adaptação cinematográfica da peça\, “Medida Provisória”\, foi a segunda maior bilheteria nacional de 2022\, provando a força da história criada no teatro baiano. Aldri destaca que o desafio de roteirizar o filme foi “sair do confinamento” do apartamento onde a trama original se passa\, expandindo o universo para as ruas\, mas mantendo a essência crítica e o humor ácido que marcam a obra.\n​A temporada comemorativa em Salvador é uma realização da Melanina Acentuada Produções com apoio do Sesc Bahia\, celebrando não apenas a longevidade da peça\, mas a manutenção de uma equipe técnica que caminha junta há uma década e meia. \n​Serviço\n​Espetáculo: Namíbia\, Não! – Temporada Comemorativa de 15 anos\n​Onde: Teatro Sesc Casa do Comércio (Avenida Tancredo Neves\, número 1109 – Caminho das Árvores\, Salvador – Bahia\, 41820-021)\n​Quando: 14 e 15 de abril\n​Horário: A partir das 20h\n​Ingressos: Disponíveis na plataforma Sympla\n​Vendas Online: https://www.sympla.com.br
URL:https://boracultura.com.br/index.php/evento/peca-namibia-nao-sob-direcao-de-lazaro-ramos/
LOCATION:SESC Casa do Comércio\, Av. Tancredo Neves\, 1109 - Caminho das Árvores\, Salvador\, Bahia\, 41820-021\, Brazil
CATEGORIES:Teatro
ATTACH;FMTTYPE=image/jpeg:https://boracultura.com.br/wp-content/uploads/2026/03/17732341624054072532938743789452.jpg
END:VEVENT
END:VCALENDAR