BEGIN:VCALENDAR
VERSION:2.0
PRODID:-// - ECPv6.15.20//NONSGML v1.0//EN
CALSCALE:GREGORIAN
METHOD:PUBLISH
X-ORIGINAL-URL:https://boracultura.com.br
X-WR-CALDESC:Eventos para 
REFRESH-INTERVAL;VALUE=DURATION:PT1H
X-Robots-Tag:noindex
X-PUBLISHED-TTL:PT1H
BEGIN:VTIMEZONE
TZID:America/Sao_Paulo
BEGIN:STANDARD
TZOFFSETFROM:-0300
TZOFFSETTO:-0300
TZNAME:-03
DTSTART:20250101T000000
END:STANDARD
END:VTIMEZONE
BEGIN:VEVENT
DTSTART;VALUE=DATE:20260423
DTEND;VALUE=DATE:20260427
DTSTAMP:20260423T152649
CREATED:20260408T134731Z
LAST-MODIFIED:20260408T134731Z
UID:2604-1776902400-1777247999@boracultura.com.br
SUMMARY:"Eu\, Zuzu Angel\, agora milito" estreia no Teatro
DESCRIPTION:Martim Gonçalves 50 anos após a morte da estilista assassinada pela Ditadura Militar\nEspetáculo com direção de Sophia Colleti e atuação de Vivianne Laert tem temporada de 15 a 26 de abril em Salvador\, cidade onde Zuzu viveu e deu à luz seu filho Stuart \nCinquenta anos após a morte de Zuleika Angel Jones — a Zuzu Angel —\, assassinada por agentes do regime militar em 14 de abril de 1976\, o Teatro Martim Gonçalves recebe a estreia do espetáculo “Eu\, Zuzu Angel\, agora milito”. A temporada vai de 15 a 26 de abril\, data escolhida intencionalmente: no dia 15\, há exatamente meio século\, realizava-se o funeral da estilista. \nCom dramaturgia e direção de Sophia Colleti — que também atua na peça —\, o espetáculo tem como protagonista a atriz Vivianne Laert no papel de Zuzu\, contracenando com Mano Leone\, que interpreta Stuart e outros personagens masculinos. A montagem transita entre poesia\, ficção e documentário para revisitar a trajetória de uma mulher que fez da moda linguagem de protesto: estilista de projeção internacional\, Zuzu transformou sua carreira em trincheira após o sequestro\, tortura e assassinato de seu filho Stuart\, militante do MR-8\, em 1971. Por cinco anos\, buscou o corpo do filho e denunciou publicamente as circunstâncias de sua morte — até ser ela própria eliminada pelo Estado. \nA encenação articula projeções de vídeo\, intervenções de luz e som e diferentes planos narrativos — do biográfico ao poético — para compor uma dramaturgia de grande densidade histórica e afetiva. Um dos elos com Salvador aparece na própria narrativa: foi na cidade que Zuzu viveu por um período e deu à luz a Stuart\, que nasceu soteropolitano. \nO processo de criação começou em 2017 na UFBA\, dentro do curso de Direção Teatral\, e passou por diferentes formatos ao longo dos anos. Para a estreia em 2026\, a dramaturgia foi inteiramente reescrita\, e o texto ganha publicação em livro pela Alameda Editorial\, com lançamento previsto para abril. O projeto foi contemplado pelo edital Chamadão das Artes Cênicas\, com recursos da Fundação Gregório de Mattos\, Secretaria Municipal de Cultura e Turismo e Prefeitura de Salvador. \nDurante a temporada\, duas sessões mediadas acontecem nas sextas-feiras 17 e 24 de abril\, às 14h30\, com entrada gratuita para alunos\, professores e funcionários da rede pública municipal e para pessoas com deficiência auditiva ou visual. As sessões contam com audiodescrição e Libras\, e são seguidas de bate-papo com o público sobre democracia e memória. \nServiço\n“Eu\, Zuzu Angel\, agora milito”\nLocal: Teatro Martim Gonçalves — Canela\, Salvador\, BA\nTemporada: 15 a 26 de abril de 2026\nQuintas e sextas: 19h | Sábados: 16h e 19h | Domingos: 16h\nIngressos: R$ 50\,00 (inteira) e R$ 25\,00 (meia) — assinantes do Clube Correio têm 40% de desconto\nCompra online: https://bit.ly/4bVz1Q3 | Bilheteria: uma hora antes de cada sessão \nSessões mediadas (gratuitas):\n17 e 24 de abril\, às 14h30 — com audiodescrição e Libras\nPúblico-alvo: alunos\, professores e funcionários da rede pública municipal; pessoas com deficiência auditiva ou visual
URL:https://boracultura.com.br/index.php/evento/eu-zuzu-angel-agora-milito-estreia-no-teatro-2/
LOCATION:Teatro Martim Gonçalves\, Canela\, Salvador\, Bahia\, Brazil
CATEGORIES:Teatro
ATTACH;FMTTYPE=image/jpeg:https://boracultura.com.br/wp-content/uploads/2026/04/17756559564144273681326605502286-scaled.jpg
END:VEVENT
END:VCALENDAR