BEGIN:VCALENDAR
VERSION:2.0
PRODID:-// - ECPv6.15.20//NONSGML v1.0//EN
CALSCALE:GREGORIAN
METHOD:PUBLISH
X-ORIGINAL-URL:https://boracultura.com.br
X-WR-CALDESC:Eventos para 
REFRESH-INTERVAL;VALUE=DURATION:PT1H
X-Robots-Tag:noindex
X-PUBLISHED-TTL:PT1H
BEGIN:VTIMEZONE
TZID:America/Sao_Paulo
BEGIN:STANDARD
TZOFFSETFROM:-0300
TZOFFSETTO:-0300
TZNAME:-03
DTSTART:20250101T000000
END:STANDARD
END:VTIMEZONE
BEGIN:VEVENT
DTSTART;TZID=America/Sao_Paulo:20260322T140000
DTEND;TZID=America/Sao_Paulo:20260322T170000
DTSTAMP:20260423T180123
CREATED:20260318T131739Z
LAST-MODIFIED:20260318T131805Z
UID:2081-1774188000-1774198800@boracultura.com.br
SUMMARY:Ilê Aiyê oferece oficina gratuita de dança afro
DESCRIPTION:​A CAIXA Cultural Salvador será palco de uma imersão na ancestralidade e no movimento no próximo dia 22 de março (domingo). O bloco afro Ilê Aiyê\, patrimônio vivo da cultura baiana\, realiza uma oficina de dança afro-brasileira aberta ao público adulto. Ministrada por Soraya Sousa — ex-Deusa do Ébano e integrante da Band’Aiyê —\, a atividade contará com a energia da sonorização ao vivo feita por músicos do “Mais Belo dos Belos”.\n​Durante o encontro\, os participantes serão conduzidos por uma vivência que explora ritmos\, gestos e a consciência corporal intrínseca às matrizes africanas. Fundado em 1974 na Liberdade\, o Ilê Aiyê é pioneiro na afirmação da identidade negra no Carnaval de Salvador\, e esta oficina busca compartilhar essa linguagem estética e histórica com a comunidade. As inscrições são gratuitas e devem ser realizadas previamente através do site oficial da CAIXA Cultural.\n​\nSERVIÇO:\n​Evento: Oficina de Dança Afro – Ilê Aiyê\nLocal: CAIXA Cultural Salvador – Rua Carlos Gomes\, 57\, Centro\nData: 22 de março (domingo)\nHorário: 14h\nVagas: 30 (Inscrição gratuita no site da CAIXA Cultural Salvador)\nClassificação: 18 anos\nMais informações: Site CAIXA Cultural ou Instagram @caixaculturalsalvador
URL:https://boracultura.com.br/index.php/evento/ile-aiye-oferece-oficina-gratuita-de-danca-afro/
CATEGORIES:Workshop
ATTACH;FMTTYPE=image/png:https://boracultura.com.br/wp-content/uploads/2026/03/1773839760805.png
END:VEVENT
END:VCALENDAR