BEGIN:VCALENDAR
VERSION:2.0
PRODID:-// - ECPv6.15.20//NONSGML v1.0//EN
CALSCALE:GREGORIAN
METHOD:PUBLISH
X-ORIGINAL-URL:https://boracultura.com.br
X-WR-CALDESC:Eventos para 
REFRESH-INTERVAL;VALUE=DURATION:PT1H
X-Robots-Tag:noindex
X-PUBLISHED-TTL:PT1H
BEGIN:VTIMEZONE
TZID:America/Sao_Paulo
BEGIN:STANDARD
TZOFFSETFROM:-0300
TZOFFSETTO:-0300
TZNAME:-03
DTSTART:20250101T000000
END:STANDARD
END:VTIMEZONE
BEGIN:VEVENT
DTSTART;TZID=America/Sao_Paulo:20260502T190000
DTEND;TZID=America/Sao_Paulo:20260502T210000
DTSTAMP:20260423T172004
CREATED:20260423T013420Z
LAST-MODIFIED:20260423T013817Z
UID:2936-1777748400-1777755600@boracultura.com.br
SUMMARY:Jorge Vercillo - JV20 Parte II - Mais um Final Feliz
DESCRIPTION:Com direção visual de Rafael Dragaud\, o novo show marca um momento de consagração na trajetória de um dos maiores cantores e compositores da música brasileira Lotando casas de shows por todo o país com a turnê JV30\, Jorge Vercillo celebra seus 30 anos de carreira e inicia uma nova etapa com o espetáculo JV30 Parte II – “Mais um final feliz”. \nSob a direção de Rafael Dragaud\, o mesmo responsável pela turnê Tempo Rei\, de Gilberto Gil\, a montagem apresenta um mergulho aprofundado nas múltiplas nuances do vasto e sofisticado repertório “vercilliano”\, que passeia da bossa nova ao ijexá\, do samba ao R&B e do reggae ao jazz. Entre os clássicos\, estão “Que Nem Maré”\, “Fênix”\, “Homem-Aranha”\, “Monalisa”\, “Sensível Demais”\, “Final Feliz”\, “Encontro das Águas” e “Ela Une Todas as Coisas”. O show também resgata canções mais recentes\, como o ijexá “Só Quem Ama”\, e traz uma nova leitura para a brasileiríssima e ambiental “Fenômenos da Natureza”\, ressaltando\, na primeira parte\, o lado mais nacional e telúrico do artista. \n“Essa nova etapa tem um frescor. É como se eu estivesse recomeçando com toda a bagagem de 30 anos\, mas com a leveza de quem quer experimentar outras possibilidades”\, diz Vercillo. A estreia de JV30 Parte II – “Mais um final feliz” evidencia uma fase marcada por profundidade e inquietação poética\, em que as composições funcionam como pontes entre o íntimo e o universal. \nO espetáculo\, que inicia sua circulação pelo país neste segundo semestre\, oferece experiências inéditas tanto aos que acompanham Vercillo desde os anos 1990 quanto às novas gerações que agora se aproximam de sua obra. Com um projeto de luz e projeções que evocam atmosferas e sensações\, a apresentação se transforma em um rito audiovisual\, ampliando a conexão afetiva do público. \nEssa dimensão filosófica não está apenas no repertório\, mas também na proposta cênica: uma busca consciente por contrastes\, significados e sutilezas\, mais conectada ao sentimento do que à lógica sonora. O próprio artista define esse conceito como uma “pluralidade não homogênea”\, um jogo de camadas que equilibra o íntimo\, o luminoso e o reflexivo. \nServiço\nJorge Vercillo – JV20 Parte II – Mais um Final Feliz\nQuando: 02 de maio (sábado)\, às 19h\nOnde: Concha Acústica do Teatro Castro Alves\nClassificação indicativa: 16 anos.\nVendas: Os ingressos para o espetáculo podem ser adquiridos na bilheteria do Teatro Castro Alves (informações em www.ba.gov.br/tca/bilheteria) e no site da Sympla (www.sympla.com.br). \nDurante as obras do Novo TCA\, o acesso à Concha Acústica será realizado exclusivamente pela Ladeira da Fonte (acesso de baixo). O estacionamento do TCA permanece fechado\, e o público poderá utilizar o estacionamento da Ferreira Costa – Barris\, que terá seu horário de funcionamento estendido até as 22h nos dias de evento. \nFoto: Divulgação. Site TCA
URL:https://boracultura.com.br/index.php/evento/jorge-vercillo-jv20-parte-ii-mais-um-final-feliz/
LOCATION:Concha Acústica\, Largo do Campo Grande\, Praça Dois de Julho\, s/n\, Salvador\, Bahia\, 40020-680\, Brazil
CATEGORIES:Música
ATTACH;FMTTYPE=image/png:https://boracultura.com.br/wp-content/uploads/2026/04/Captura-de-tela-2026-04-22-223049.png
END:VEVENT
END:VCALENDAR