BEGIN:VCALENDAR
VERSION:2.0
PRODID:-// - ECPv6.15.20//NONSGML v1.0//EN
CALSCALE:GREGORIAN
METHOD:PUBLISH
X-ORIGINAL-URL:https://boracultura.com.br
X-WR-CALDESC:Eventos para 
REFRESH-INTERVAL;VALUE=DURATION:PT1H
X-Robots-Tag:noindex
X-PUBLISHED-TTL:PT1H
BEGIN:VTIMEZONE
TZID:America/Sao_Paulo
BEGIN:STANDARD
TZOFFSETFROM:-0300
TZOFFSETTO:-0300
TZNAME:-03
DTSTART:20250101T000000
END:STANDARD
END:VTIMEZONE
BEGIN:VEVENT
DTSTART;TZID=America/Sao_Paulo:20260510T190000
DTEND;TZID=America/Sao_Paulo:20260510T210000
DTSTAMP:20260423T171956
CREATED:20260423T014250Z
LAST-MODIFIED:20260423T014250Z
UID:2940-1778439600-1778446800@boracultura.com.br
SUMMARY:Concha Para Todos - Flávio Venturini
DESCRIPTION:O Concha Para Todos será palco da turnê ‘Minha História’\, que celebra os 50 anos de carreira do cantor\, compositor e instrumentista Flávio Venturini\, em 10 de maio (domingo)\, às 19h\, na Concha Acústica do TCA\, em Salvador. Realizado pela Tapis Rouge e pela MG Produções\, o projeto promove shows a preços populares\, a partir de R$ 45. \nNa turnê\, Venturini revisita clássicos como ‘Espanhola’\, ‘Princesa’ e ‘Mais Uma Vez’ em roupagens que prometem emocionar o público. A apresentação é abrilhantada por uma banda formada por músicos renomados e uma superprodução audiovisual assinada por três dos mais importantes diretores artísticos do país. \nNascido em Belo Horizonte\, Flávio Venturini ganhou projeção nacional quando integrou o Clube da Esquina\, ao lado dos conterrâneos Milton Nascimento\, Lô Borges e Beto Guedes. Nos anos 1970\, o cantor foi tecladista\, compositor e vocalista da banda O Terço\, tendo se destacado no cenário do rock progressivo e se consolidado como um dos principais músicos de sua geração. \nEm 79\, com o apoio de Milton\, Venturini fundou a banda de rock 14 Bis. Em 81\, ainda no grupo\, lançou seu primeiro disco solo\, ‘Nascente’\, que ficou marcado pelos sucessos ‘Princesa’ e ‘Espanhola’. Em 87\, fez seu último lançamento como integrante da 14 Bis\, o álbum ‘Sete’\, cujo destaque é a canção ‘Mais Uma Vez’\, fruto de uma parceria com Renato Russo. Desde 1990\, quando passou a se dedicar exclusivamente à carreira solo\, deu origem a mais de dez discos. Também teve obras gravadas por outros nomes importantes da MPB e fez parte de trilhas sonoras de filmes e novelas. \nSobre o projeto \nIdealizado e executado pela Tapis Rouge e pela MG Produções\, o Concha para Todos nasceu com o objetivo de restabelecer — ou fortalecer ou\, ainda\, criar — laços entre a Concha Acústica do TCA e os soteropolitanos\, palco pelo qual costumam passar os maiores nomes da música brasileira que vêm a Salvador e que já rendeu momentos inesquecíveis a milhões de pessoas ao longo de seus mais de 60 anos. Desde o início\, o projeto já levou ao palco o trio Xangai\, Elomar e Renato Teixeira; Lobão; Zizi e Luiza Possi; e Marina Lima. \nXodó de público e artistas que são adeptos de apresentações mais intimistas\, a Concha se destaca por ser um espaço a céu aberto\, com singular distribuição da ocupação do espaço\, sem assentos ou lugares marcados. Além disso\, são características marcantes sua identidade jovial e sua histórica disposição à diversidade\, que serve de premissa para o projeto. \nServiço\nConcha Para Todos – Flávio Venturini\nQuando: 10 de maio (domingo)\, às 19h\nOnde: Concha Acústica do Teatro Castro Alves\nClassificação indicativa: 18 anos.\nVendas: Os ingressos para o espetáculo podem ser adquiridos na bilheteria do Teatro Castro Alves (informações em www.ba.gov.br/tca/bilheteria) e no site da Sympla (www.sympla.com.br). \nDurante as obras do Novo TCA\, o acesso à Concha Acústica será realizado exclusivamente pela Ladeira da Fonte (acesso de baixo). O estacionamento do TCA permanece fechado\, e o público poderá utilizar o estacionamento da Ferreira Costa – Barris\, que terá seu horário de funcionamento estendido até as 22h nos dias de evento. \nFoto: Divulgação. Site TCA
URL:https://boracultura.com.br/index.php/evento/concha-para-todos-flavio-venturini/
LOCATION:Concha Acústica\, Largo do Campo Grande\, Praça Dois de Julho\, s/n\, Salvador\, Bahia\, 40020-680\, Brazil
CATEGORIES:Música
ATTACH;FMTTYPE=image/png:https://boracultura.com.br/wp-content/uploads/2026/04/Captura-de-tela-2026-04-22-223854.png
END:VEVENT
END:VCALENDAR