BEGIN:VCALENDAR
VERSION:2.0
PRODID:-// - ECPv6.15.20//NONSGML v1.0//EN
CALSCALE:GREGORIAN
METHOD:PUBLISH
X-ORIGINAL-URL:https://boracultura.com.br
X-WR-CALDESC:Eventos para 
REFRESH-INTERVAL;VALUE=DURATION:PT1H
X-Robots-Tag:noindex
X-PUBLISHED-TTL:PT1H
BEGIN:VTIMEZONE
TZID:America/Sao_Paulo
BEGIN:STANDARD
TZOFFSETFROM:-0300
TZOFFSETTO:-0300
TZNAME:-03
DTSTART:20250101T000000
END:STANDARD
END:VTIMEZONE
BEGIN:VEVENT
DTSTART;TZID=America/Sao_Paulo:20260524T170000
DTEND;TZID=America/Sao_Paulo:20260524T190000
DTSTAMP:20260423T171955
CREATED:20260423T015337Z
LAST-MODIFIED:20260423T015418Z
UID:2948-1779642000-1779649200@boracultura.com.br
SUMMARY:Kysha e Mine - Best Friends Forever
DESCRIPTION:A Casa Saturno apresenta “Kysha e Mine: Best Friend Forever Ao Vivo”\, a turnê oficial do novo audiovisual gravado no Rio de Janeiro\, agora transformado em um show musical inédito\, criado para viajar o Brasil em 2026. Importante reforçar: não é teatro — é uma experiência musical ao vivo\, pop\, vibrante e feita para todas as idades. \nDepois do enorme sucesso do audiovisual\, que consolidou ainda mais a força de Kysha e Mine no público teen e infantil\, a dupla estreia nos palcos com um formato totalmente novo. O espetáculo reúne músicas\, coreografias contagiosas\, momentos interativos\, humor\, além de um dos pontos mais marcantes: os figurinos especiais\, desenvolvidos para impactar visualmente e dar vida à estética única das personagens. \nCom milhões de fãs acompanhando cada passo nas redes\, Kysha e Mine se tornaram ícones da criatividade\, da amizade e da performance. “Best Friend Forever Ao Vivo” é um espetáculo para cantar junto\, vibrar\, se emocionar e registrar cada momento. É música\, cor\, movimento e brilho — tudo com a assinatura artística da Casa Saturno. \nServiço\nKysha e Mine – Best Friends Forever\nQuando: 24 de maio (domingo)\, às 17h\nOnde: Concha Acústica do Teatro Castro Alves\nClassificação indicativa: livre\nVendas: Os ingressos para o espetáculo podem ser adquiridos na bilheteria do Teatro Castro Alves (informações em www.ba.gov.br/tca/bilheteria) e no site da Sympla (www.sympla.com.br). \nDurante as obras do Novo TCA\, o acesso à Concha Acústica será realizado exclusivamente pela Ladeira da Fonte (acesso de baixo). O estacionamento do TCA permanece fechado\, e o público poderá utilizar o estacionamento da Ferreira Costa – Barris\, que terá seu horário de funcionamento estendido até as 22h nos dias de evento. \nFoto: Divulgação. Site TCA
URL:https://boracultura.com.br/index.php/evento/2948/
LOCATION:Concha Acústica\, Largo do Campo Grande\, Praça Dois de Julho\, s/n\, Salvador\, Bahia\, 40020-680\, Brazil
CATEGORIES:Infantil
ATTACH;FMTTYPE=image/png:https://boracultura.com.br/wp-content/uploads/2026/04/Captura-de-tela-2026-04-22-224959.png
END:VEVENT
END:VCALENDAR