BEGIN:VCALENDAR
VERSION:2.0
PRODID:-// - ECPv6.15.20//NONSGML v1.0//EN
CALSCALE:GREGORIAN
METHOD:PUBLISH
X-ORIGINAL-URL:https://boracultura.com.br
X-WR-CALDESC:Eventos para 
REFRESH-INTERVAL;VALUE=DURATION:PT1H
X-Robots-Tag:noindex
X-PUBLISHED-TTL:PT1H
BEGIN:VTIMEZONE
TZID:America/Sao_Paulo
BEGIN:STANDARD
TZOFFSETFROM:-0300
TZOFFSETTO:-0300
TZNAME:-03
DTSTART:20250101T000000
END:STANDARD
END:VTIMEZONE
BEGIN:VEVENT
DTSTART;TZID=America/Sao_Paulo:20260425T110000
DTEND;TZID=America/Sao_Paulo:20260425T150000
DTSTAMP:20260423T135006
CREATED:20260421T003035Z
LAST-MODIFIED:20260421T003035Z
UID:2860-1777114800-1777129200@boracultura.com.br
SUMMARY:Espetáculo "Maria Vai com as Outras"
DESCRIPTION:Últimas sessões de “Maria Vai com as Outras” acontecem no próximo sábado em Salvador\n\nCom estreia celebrada no dia 28 de março e sessões esgotadas desde então\, o musical infantil Maria Vai com as Outras chega ao último sábado de sua temporada de estreia em Salvador. No dia 25 de abril\, às 11h e às 15h\, a cabrita Maria e sua trupe recebem o público no CIMA – Centro de Interpretação da Mata Atlântica\, no Espaço Boquinha de Brasa\, no Bonfim. A entrada é gratuita\, com senhas distribuídas uma hora antes de cada sessão para as 80 vagas disponíveis.\n\n\n\nO espetáculo combina teatro e música em uma narrativa leve e bem-humorada sobre autenticidade\, modismos na infância e respeito às diferenças — temas que têm conquistado crianças e adultos igualmente. A trilha sonora original\, com arranjos instrumentais e vocais que fogem ao repertório infantil convencional\, é um dos grandes destaques da montagem. “Foi surpreendente ver a reação dos pequenos\, como eles estavam atentos à história e como se emocionaram com as músicas escolhidas para o espetáculo”\, conta Luisa Proserpio\, idealizadora do projeto e intérprete da protagonista.\n\n \n\nCom texto inédito de Gil Vicente Tavares e direção artística de Marcelo Praddo\, o musical reúne no elenco Luisa Proserpio\, Evelin Buchegger\, Diogo Lopes Filho e Jarbas Oliver. O projeto foi contemplado pelo edital Chamadão das Artes Cênicas e conta com recursos da Fundação Gregório de Mattos\, da Secretaria Municipal de Cultura e Turismo e da Prefeitura de Salvador. Todas as sessões contam com tradução em Libras e acolhimento de crianças neurodivergentes.\n\n \n\nSERVIÇO\nMaria Vai com as Outras — últimas sessões\n📍 Boquinha de Brasa do CIMA (Centro de Interpretação da Mata Atlântica)\ngrtatuita em\, Salvador\n📅 25 de abril (sábado)\n🕐 11h e 15h\n🎟️ Entrada gratuita — senhas distribuídas 1 hora antes de cada sessão (capacidade: 80 lugares)\n♿ Tradução em Libras e acolhimento de crianças neurodivergentes em todas as sessões\nPatrocínio: Fundação Gregório de Mattos\, Secretaria Municipal de Cultura e Turismo\, Prefeitura de Salvador
URL:https://boracultura.com.br/index.php/evento/espetaculo-maria-vai-com-as-outras/
LOCATION:CIMA\, Rua Baden Powell\, nº 8 — Bonfim\, Salvador\, Bahia\, Brazil
CATEGORIES:Infantil
ATTACH;FMTTYPE=image/jpeg:https://boracultura.com.br/wp-content/uploads/2026/04/17763458273223986397795529335302-scaled.jpg
END:VEVENT
END:VCALENDAR