BEGIN:VCALENDAR
VERSION:2.0
PRODID:-// - ECPv6.15.20//NONSGML v1.0//EN
CALSCALE:GREGORIAN
METHOD:PUBLISH
X-ORIGINAL-URL:https://boracultura.com.br
X-WR-CALDESC:Eventos para 
REFRESH-INTERVAL;VALUE=DURATION:PT1H
X-Robots-Tag:noindex
X-PUBLISHED-TTL:PT1H
BEGIN:VTIMEZONE
TZID:America/Sao_Paulo
BEGIN:STANDARD
TZOFFSETFROM:-0300
TZOFFSETTO:-0300
TZNAME:-03
DTSTART:20250101T000000
END:STANDARD
END:VTIMEZONE
BEGIN:VEVENT
DTSTART;TZID=America/Sao_Paulo:20260314T160000
DTEND;TZID=America/Sao_Paulo:20260315T190000
DTSTAMP:20260423T162922
CREATED:20260302T123050Z
LAST-MODIFIED:20260302T123050Z
UID:1614-1773504000-1773601200@boracultura.com.br
SUMMARY:Espetáculo [RE]FLORESTA
DESCRIPTION:[RE]FLORESTA: Dança e Ecologia Ocupam o Teatro Gregório de Mattos com Instalação Performática \n​Entre os dias 14 e 22 de março\, o Teatro Gregório de Mattos\, em Salvador\, transforma-se em um ecossistema vivo com a temporada de FLORESTA. A instalação-performática de dança\, idealizada pelo artista\, arte-educador e pesquisador Thiago Cohen\, propõe uma experiência de reconexão profunda entre o corpo humano e a natureza\, tratando o gesto como uma prática ancestral e coletiva. \n​A obra é fruto da residência artística [RE]FLORESTA e traz para a cena o conceito de “devir-árvore”. Através de uma expografia composta por materiais orgânicos ressignificados — como galhos e folhas provenientes de podas urbanas — o espetáculo constrói um território sensorial onde o tempo assume uma circularidade ritualística. Inspirado pelo pensamento de figuras como Ailton Krenak e Leda Maria Martins\, Cohen propõe uma “escuta das pedras e das folhas”\, afirmando que ser floresta é\, antes de tudo\, um ato de coletividade e resistência diante da urgência climática atual. \n​A performance organiza-se em diferentes estações coreográficas\, onde os intérpretes ativam a matéria orgânica em movimentos espirais e deslocamentos que desafiam a percepção tradicional de palco. Com passagens por cidades como São Paulo\, Uberlândia e Asunción (Paraguai)\, o trabalho reafirma a pesquisa de Thiago Cohen na intersecção entre a poesia e a perspectiva afropindorâmica. \n​Ações Formativas e Acessibilidade\n​Como parte da programação\, a Escola de Dança da UFBA recebe no dia 10 de março o encontro “Diálogos da Floresta”. O evento contará com duas mesas de debate (10h e 18h30) reunindo especialistas como Edu O.\, Marilza Oliveira\, Zulmí Nascimento e Daniela Botero Marulanda. As discussões abordarão as relações entre corpo\, memória\, encantarias amazônicas e práticas pedagógicas contemporâneas.\n​Reforçando o compromisso com a inclusão\, todas as sessões do espetáculo e dos debates contarão com tradução em Libras\, e as sessões de sábado\, às 16h\, oferecerão também audiodescrição. \n​Serviço\n​Espetáculo: FLORESTA – Instalação Performática de Dança\n​Onde: Teatro Gregório de Mattos – Salvador (BA)\n​Quando: 14\, 15\, 21 e 22 de março\n​Horários: Sábados (16h com audiodescrição e 19h) e Domingos (18h)\n​Ingressos: R$ 30\,00 (inteira) e R$ 15\,00 (meia) \n​Evento: Diálogos da Floresta\n​Onde: Escola de Dança da UFBA\n​Quando: 10 de março\, às 10h e às 18h30\n​Entrada: Gratuita
URL:https://boracultura.com.br/index.php/evento/espetaculo-refloresta/
LOCATION:Teatro Gregório de Matos\, Praça Castro Alves\, s/n - Centro\, Salvador\, Bahia\, 40020-160\, Brazil
CATEGORIES:Teatro
ATTACH;FMTTYPE=image/png:https://boracultura.com.br/wp-content/uploads/2026/03/17724542532837950797650493113320.png
END:VEVENT
BEGIN:VEVENT
DTSTART;TZID=America/Sao_Paulo:20260321T160000
DTEND;TZID=America/Sao_Paulo:20260322T180000
DTSTAMP:20260423T162922
CREATED:20260318T141349Z
LAST-MODIFIED:20260318T141417Z
UID:2105-1774108800-1774202400@boracultura.com.br
SUMMARY:Aulão de patins no Shopping Boulevard em Camaçari
DESCRIPTION:A programação gratuita será neste fim de semana e promete agradar toda a criançada em um ambiente seguro e acolhedor \n\n\n\nO Boulevard Shopping Camaçari preparou uma programação especial e gratuita para quem gosta de se movimentar e para as famílias que querem viver momentos leves com a garotada. Neste fim de semana\, o público poderá participar de um aulão de patins e de uma atividade temática de Páscoa\, com a presença do Coelhinho e pintura artística. \n\n\n\nNo sábado\, 21\, das 16h às 18h\, o estacionamento do empreendimento se transforma em pista para o Aulão de Patins\, promovido em parceria com o grupo Bora Patinar. A atividade é voltada para quem já patina ou quer dar as primeiras voltas com mais segurança. Durante o encontro\, instrutores apresentam noções básicas de equilíbrio\, deslocamento e frenagem\, além de propor pequenos desafios para estimular a prática. A ideia é reunir crianças\, jovens e adultos em um momento de aprendizado coletivo e convivência ao ar livre. \n\n\n\nJá no domingo\, 22\, a partir das 16h30\, o Espaço Kids recebe uma programação pensada especialmente para o público infantil. A tarde conta com a visita do Coelhinho da Páscoa\, que vai circular pelo espaço interagindo com as crianças\, posando para fotos e participando das brincadeiras. \n\n\n\nSERVIÇO \n\n\n\nO Quê: Aulão de Patins (com Bora Patinar) Quando: Neste sábado\, 21\, das 16h às 18h Onde: Estacionamento do Boulevard Shopping Camaçari Quanto: Gratuito O Quê: Visita do Coelhinho Quando: Neste domingo\, 22\, das 16h30 às 18h Onde: Espaço Kids do Boulevard Shopping Camaçari Quanto: Gratuito
URL:https://boracultura.com.br/index.php/evento/aulao-de-patins-num-shopping-em-camacari/
LOCATION:Boulevard Camaçari\, BA-535\, s/nº - Industrial\, Camaçari\, Bahia\, 42810-200\, Brazil
CATEGORIES:Infantil
ATTACH;FMTTYPE=image/jpeg:https://boracultura.com.br/wp-content/uploads/2026/03/17738431078255418449650410191885-scaled.jpg
END:VEVENT
BEGIN:VEVENT
DTSTART;TZID=America/Sao_Paulo:20260321T160000
DTEND;TZID=America/Sao_Paulo:20260322T200000
DTSTAMP:20260423T162922
CREATED:20260302T124922Z
LAST-MODIFIED:20260302T124922Z
UID:1617-1774108800-1774209600@boracultura.com.br
SUMMARY:Espetáculo [RE]FLORESTA
DESCRIPTION:[RE]FLORESTA: Dança e Ecologia Ocupam o Teatro Gregório de Mattos com Instalação Performática \n​Entre os dias 14 e 22 de março\, o Teatro Gregório de Mattos\, em Salvador\, transforma-se em um ecossistema vivo com a temporada de FLORESTA. A instalação-performática de dança\, idealizada pelo artista\, arte-educador e pesquisador Thiago Cohen\, propõe uma experiência de reconexão profunda entre o corpo humano e a natureza\, tratando o gesto como uma prática ancestral e coletiva. \n​A obra é fruto da residência artística [RE]FLORESTA e traz para a cena o conceito de “devir-árvore”. Através de uma expografia composta por materiais orgânicos ressignificados — como galhos e folhas provenientes de podas urbanas — o espetáculo constrói um território sensorial onde o tempo assume uma circularidade ritualística. Inspirado pelo pensamento de figuras como Ailton Krenak e Leda Maria Martins\, Cohen propõe uma “escuta das pedras e das folhas”\, afirmando que ser floresta é\, antes de tudo\, um ato de coletividade e resistência diante da urgência climática atual. \n​A performance organiza-se em diferentes estações coreográficas\, onde os intérpretes ativam a matéria orgânica em movimentos espirais e deslocamentos que desafiam a percepção tradicional de palco. Com passagens por cidades como São Paulo\, Uberlândia e Asunción (Paraguai)\, o trabalho reafirma a pesquisa de Thiago Cohen na intersecção entre a poesia e a perspectiva afropindorâmica. \n​Ações Formativas e Acessibilidade\n​Como parte da programação\, a Escola de Dança da UFBA recebe no dia 10 de março o encontro “Diálogos da Floresta”. O evento contará com duas mesas de debate (10h e 18h30) reunindo especialistas como Edu O.\, Marilza Oliveira\, Zulmí Nascimento e Daniela Botero Marulanda. As discussões abordarão as relações entre corpo\, memória\, encantarias amazônicas e práticas pedagógicas contemporâneas.\n​Reforçando o compromisso com a inclusão\, todas as sessões do espetáculo e dos debates contarão com tradução em Libras\, e as sessões de sábado\, às 16h\, oferecerão também audiodescrição. \n​Serviço\n​Espetáculo: FLORESTA – Instalação Performática de Dança\n​Onde: Teatro Gregório de Mattos – Salvador (BA)\n​Quando: 14\, 15\, 21 e 22 de março\n​Horários: Sábados (16h com audiodescrição e 19h) e Domingos (18h)\n​Ingressos: R$ 30\,00 (inteira) e R$ 15\,00 (meia) \n​Evento: Diálogos da Floresta\n​Onde: Escola de Dança da UFBA\n​Quando: 10 de março\, às 10h e às 18h30\n​Entrada: Gratuita
URL:https://boracultura.com.br/index.php/evento/espetaculo-refloresta-2/
LOCATION:Teatro Gregório de Matos\, Praça Castro Alves\, s/n - Centro\, Salvador\, Bahia\, 40020-160\, Brazil
CATEGORIES:Teatro
ATTACH;FMTTYPE=image/png:https://boracultura.com.br/wp-content/uploads/2026/03/17724542532837950797650493113320.png
END:VEVENT
BEGIN:VEVENT
DTSTART;TZID=America/Sao_Paulo:20260327T150000
DTEND;TZID=America/Sao_Paulo:20260327T170000
DTSTAMP:20260423T162922
CREATED:20260317T195130Z
LAST-MODIFIED:20260326T014330Z
UID:2077-1774623600-1774630800@boracultura.com.br
SUMMARY:​Espetáculo "Fala\, Ìbejì" estreia em Salvador
DESCRIPTION:Espetáculo “Fala\, Ìbejì” leva a magia do Caruru e da ancestralidade para as praças de Salvador \n​Salvador se prepara para receber um projeto que une fé\, arte e gastronomia em plena rua. O espetáculo infantojuvenil “Fala\, Ìbejì”\, realizado pelo COOXIA Coletivo Teatral\, inicia sua temporada gratuita no dia 27 de março\, circulando por diversos bairros da capital baiana. A montagem é uma verdadeira celebração da cultura afro-brasileira\, utilizando o cheiro do dendê\, o som dos atabaques e a ludicidade das brincadeiras de terreiro para contar uma história de resistência e alegria. \n​Com dramaturgia de Luiz Antônio Sena Jr. e direção de Guilherme Hunder\, a obra é bilíngue — integrando Português\, Libras e Yorubá — garantindo acessibilidade e o resgate da tradição oral. A trama acompanha a preparação de um caruru na casa de Mãe Mainha\, onde as crianças Menino\, Menina\, Guri e Erê precisam usar a esperteza para vencer a Morte (chamada apenas de “Ela”) através da dança e do toque ininterrupto dos tambores. \n​O projeto vai além do palco improvisado na rua\, integrando o experimento “Dupla de Dois”\, que promove oficinas de teatro afro-gastronômico em escolas públicas. Nessas atividades\, os ingredientes do caruru tornam-se metáforas dos elementos teatrais\, como o quiabo representando o elenco e o dendê a iluminação. A cenografia de Erick Saboya e os figurinos de Guilherme Hunder reforçam essa estética\, utilizando caixotes de feira\, bacias de ferro e sacos de linhagem para transformar a praça em um quintal de memórias ancestrais. \nAgenda de estreia – Temporada 2026\nRibeira\n📍 Largo do Papagaio\n• 27/03/2026 (sexta-feira)\, às 15h\n• 28/03/2026 (sábado)\, às 16h \nCajazeiras\n📍 Campo da Pronaica\n• 30 e 31/03/2026 (segunda e terça-feira)\, às 15h \nSubúrbio Ferroviário – Plataforma\n📍 Praça São Brás\n• 01/04/2026 (quarta-feira)\, às 15h\n• 02/04/2026 (quinta-feira)\, às 16h \nCentro Histórico\n📍 Largo do Campo Grande (Praça Dois de Julho)\n• 04 a 12/04/2026\n(quintas e sextas\, às 15h | sábados e domingos\, às 16h)
URL:https://boracultura.com.br/index.php/evento/espetaculo-fala-ibeji-estreia-em-salvador/
LOCATION:Largo do Papagaio\, Ribeira\, Salvador\, Bahia\, Brazil
CATEGORIES:Infantojuvenil
ATTACH;FMTTYPE=image/png:https://boracultura.com.br/wp-content/uploads/2026/03/17737769783565034589312908323533-e1773777071363.png
END:VEVENT
BEGIN:VEVENT
DTSTART;TZID=America/Sao_Paulo:20260328T160000
DTEND;TZID=America/Sao_Paulo:20260328T160000
DTSTAMP:20260423T162922
CREATED:20260318T235651Z
LAST-MODIFIED:20260319T004332Z
UID:2130-1774713600-1774713600@boracultura.com.br
SUMMARY:​Espetáculo "Fala\, Ìbejì"
DESCRIPTION:Espetáculo “Fala\, Ìbejì” leva a magia do Caruru e da ancestralidade para as praças de Salvador \n​Salvador se prepara para receber um projeto que une fé\, arte e gastronomia em plena rua. O espetáculo infantojuvenil “Fala\, Ìbejì”\, realizado pelo COOXIA Coletivo Teatral\, inicia sua temporada gratuita no dia 27 de março\, circulando por diversos bairros da capital baiana. A montagem é uma verdadeira celebração da cultura afro-brasileira\, utilizando o cheiro do dendê\, o som dos atabaques e a ludicidade das brincadeiras de terreiro para contar uma história de resistência e alegria. \n​Com dramaturgia de Luiz Antônio Sena Jr. e direção de Guilherme Hunder\, a obra é bilíngue — integrando Português\, Libras e Yorubá — garantindo acessibilidade e o resgate da tradição oral. A trama acompanha a preparação de um caruru na casa de Mãe Mainha\, onde as crianças Menino\, Menina\, Guri e Erê precisam usar a esperteza para vencer a Morte (chamada apenas de “Ela”) através da dança e do toque ininterrupto dos tambores. \n​O projeto vai além do palco improvisado na rua\, integrando o experimento “Dupla de Dois”\, que promove oficinas de teatro afro-gastronômico em escolas públicas. Nessas atividades\, os ingredientes do caruru tornam-se metáforas dos elementos teatrais\, como o quiabo representando o elenco e o dendê a iluminação. A cenografia de Erick Saboya e os figurinos de Guilherme Hunder reforçam essa estética\, utilizando caixotes de feira\, bacias de ferro e sacos de linhagem para transformar a praça em um quintal de memórias ancestrais. \nAgenda de estreia – Temporada 2026\nRibeira\n📍 Largo do Papagaio\n• 27/03/2026 (sexta-feira)\, às 15h\n• 28/03/2026 (sábado)\, às 16h \nCajazeiras\n📍 Campo da Pronaica\n• 30 e 31/03/2026 (segunda e terça-feira)\, às 15h \nSubúrbio Ferroviário – Plataforma\n📍 Praça São Brás\n• 01/04/2026 (quarta-feira)\, às 15h\n• 02/04/2026 (quinta-feira)\, às 16h \nCentro Histórico\n📍 Largo do Campo Grande (Praça Dois de Julho)\n• 04 a 12/04/2026\n(quintas e sextas\, às 15h | sábados e domingos\, às 16h)
URL:https://boracultura.com.br/index.php/evento/espetaculo-fala-ibeji/
LOCATION:Largo do Papagaio\, Ribeira\, Salvador\, Bahia\, Brazil
CATEGORIES:Infantojuvenil
ATTACH;FMTTYPE=image/png:https://boracultura.com.br/wp-content/uploads/2026/03/17737769783565034589312908323533-e1773777071363.png
END:VEVENT
BEGIN:VEVENT
DTSTART;TZID=America/Sao_Paulo:20260328T183000
DTEND;TZID=America/Sao_Paulo:20260328T220000
DTSTAMP:20260423T162922
CREATED:20260114T041024Z
LAST-MODIFIED:20260115T004425Z
UID:546-1774722600-1774735200@boracultura.com.br
SUMMARY:PHONICA – Marisa Monte & Orquestra Ao Vivo
DESCRIPTION:Marisa Monte se apresentará em Salvador em 2026 com sua turnê “Phonica – Marisa Monte & Orquestra Ao Vivo” no dia 28 de março de 2026\, na Casa de Apostas Arena Fonte Nova. O espetáculo grandioso conta com a banda da cantora e uma orquestra sinfônica de 55 músicos regida pelo maestro André Bachur\, revisitando seu repertório com arranjos sinfônicos. \n\nSERVIÇO\nData: 28/03/2026 (sábado)\nAbertura dos portões: 15h30\nHorário do show: 18h30\nLocal: Casa de Apostas Arena Fonte Nova – Ladeira da Fonte das Pedras\, s/n – Nazaré\, 40050-565\, Salvador\nIngressos:  www.ticketsforfun.com.br  e na bilheteria oficial. Consulte condições e horários de funcionamento.\nApresentado por: Banco do Brasil\nMeio de pagamento preferencial: Cartões BB Visa\nRealização: T4F \nClassificação etária: Crianças abaixo de 6 anos não terão a entrada permitida. De 6 a 14 anos: entrada permitida acompanhadas por pais ou responsáveis legais. A partir de 15 anos: entrada permitida desacompanhados.
URL:https://boracultura.com.br/index.php/evento/phonica-marisa-monte-orquestra-ao-vivo/
LOCATION:Casa de Apostas Arena Fonte Nova\, Ladeira da Fonte das Pedras\, s/n – Nazaré\, Salvador\, Bahia\, 40050-565\, Brazil
CATEGORIES:Música
ATTACH;FMTTYPE=image/jpeg:https://boracultura.com.br/wp-content/uploads/2026/01/marisa.jpeg
END:VEVENT
BEGIN:VEVENT
DTSTART;TZID=America/Sao_Paulo:20260330T150000
DTEND;TZID=America/Sao_Paulo:20260330T150000
DTSTAMP:20260423T162922
CREATED:20260319T000142Z
LAST-MODIFIED:20260319T004351Z
UID:2132-1774882800-1774882800@boracultura.com.br
SUMMARY:​Espetáculo "Fala\, Ìbejì"
DESCRIPTION:Espetáculo “Fala\, Ìbejì” leva a magia do Caruru e da ancestralidade para as praças de Salvador \n​Salvador se prepara para receber um projeto que une fé\, arte e gastronomia em plena rua. O espetáculo infantojuvenil “Fala\, Ìbejì”\, realizado pelo COOXIA Coletivo Teatral\, inicia sua temporada gratuita no dia 27 de março\, circulando por diversos bairros da capital baiana. A montagem é uma verdadeira celebração da cultura afro-brasileira\, utilizando o cheiro do dendê\, o som dos atabaques e a ludicidade das brincadeiras de terreiro para contar uma história de resistência e alegria. \n​Com dramaturgia de Luiz Antônio Sena Jr. e direção de Guilherme Hunder\, a obra é bilíngue — integrando Português\, Libras e Yorubá — garantindo acessibilidade e o resgate da tradição oral. A trama acompanha a preparação de um caruru na casa de Mãe Mainha\, onde as crianças Menino\, Menina\, Guri e Erê precisam usar a esperteza para vencer a Morte (chamada apenas de “Ela”) através da dança e do toque ininterrupto dos tambores. \n​O projeto vai além do palco improvisado na rua\, integrando o experimento “Dupla de Dois”\, que promove oficinas de teatro afro-gastronômico em escolas públicas. Nessas atividades\, os ingredientes do caruru tornam-se metáforas dos elementos teatrais\, como o quiabo representando o elenco e o dendê a iluminação. A cenografia de Erick Saboya e os figurinos de Guilherme Hunder reforçam essa estética\, utilizando caixotes de feira\, bacias de ferro e sacos de linhagem para transformar a praça em um quintal de memórias ancestrais. \nAgenda de estreia – Temporada 2026\nRibeira\n📍 Largo do Papagaio\n• 27/03/2026 (sexta-feira)\, às 15h\n• 28/03/2026 (sábado)\, às 16h \nCajazeiras\n📍 Campo da Pronaica\n• 30 e 31/03/2026 (segunda e terça-feira)\, às 15h \nSubúrbio Ferroviário – Plataforma\n📍 Praça São Brás\n• 01/04/2026 (quarta-feira)\, às 15h\n• 02/04/2026 (quinta-feira)\, às 16h \nCentro Histórico\n📍 Largo do Campo Grande (Praça Dois de Julho)\n• 04 a 12/04/2026\n(quintas e sextas\, às 15h | sábados e domingos\, às 16h)
URL:https://boracultura.com.br/index.php/evento/espetaculo-fala-ibeji-2/
LOCATION:Campo da Pronaica\, Cajazeiras - Fazenda Grande I\, Salvador\, Bahia\, 41340-270\, Brazil
CATEGORIES:Infantojuvenil
ATTACH;FMTTYPE=image/png:https://boracultura.com.br/wp-content/uploads/2026/03/17737769783565034589312908323533-e1773777071363.png
END:VEVENT
BEGIN:VEVENT
DTSTART;TZID=America/Sao_Paulo:20260331T150000
DTEND;TZID=America/Sao_Paulo:20260331T150000
DTSTAMP:20260423T162922
CREATED:20260319T000225Z
LAST-MODIFIED:20260319T004358Z
UID:2136-1774969200-1774969200@boracultura.com.br
SUMMARY:​Espetáculo "Fala\, Ìbejì"
DESCRIPTION:Espetáculo “Fala\, Ìbejì” leva a magia do Caruru e da ancestralidade para as praças de Salvador \n​Salvador se prepara para receber um projeto que une fé\, arte e gastronomia em plena rua. O espetáculo infantojuvenil “Fala\, Ìbejì”\, realizado pelo COOXIA Coletivo Teatral\, inicia sua temporada gratuita no dia 27 de março\, circulando por diversos bairros da capital baiana. A montagem é uma verdadeira celebração da cultura afro-brasileira\, utilizando o cheiro do dendê\, o som dos atabaques e a ludicidade das brincadeiras de terreiro para contar uma história de resistência e alegria. \n​Com dramaturgia de Luiz Antônio Sena Jr. e direção de Guilherme Hunder\, a obra é bilíngue — integrando Português\, Libras e Yorubá — garantindo acessibilidade e o resgate da tradição oral. A trama acompanha a preparação de um caruru na casa de Mãe Mainha\, onde as crianças Menino\, Menina\, Guri e Erê precisam usar a esperteza para vencer a Morte (chamada apenas de “Ela”) através da dança e do toque ininterrupto dos tambores. \n​O projeto vai além do palco improvisado na rua\, integrando o experimento “Dupla de Dois”\, que promove oficinas de teatro afro-gastronômico em escolas públicas. Nessas atividades\, os ingredientes do caruru tornam-se metáforas dos elementos teatrais\, como o quiabo representando o elenco e o dendê a iluminação. A cenografia de Erick Saboya e os figurinos de Guilherme Hunder reforçam essa estética\, utilizando caixotes de feira\, bacias de ferro e sacos de linhagem para transformar a praça em um quintal de memórias ancestrais. \nAgenda de estreia – Temporada 2026\nRibeira\n📍 Largo do Papagaio\n• 27/03/2026 (sexta-feira)\, às 15h\n• 28/03/2026 (sábado)\, às 16h \nCajazeiras\n📍 Campo da Pronaica\n• 30 e 31/03/2026 (segunda e terça-feira)\, às 15h \nSubúrbio Ferroviário – Plataforma\n📍 Praça São Brás\n• 01/04/2026 (quarta-feira)\, às 15h\n• 02/04/2026 (quinta-feira)\, às 16h \nCentro Histórico\n📍 Largo do Campo Grande (Praça Dois de Julho)\n• 04 a 12/04/2026\n(quintas e sextas\, às 15h | sábados e domingos\, às 16h)
URL:https://boracultura.com.br/index.php/evento/espetaculo-fala-ibeji-3/
LOCATION:Campo da Pronaica\, Cajazeiras - Fazenda Grande I\, Salvador\, Bahia\, 41340-270\, Brazil
CATEGORIES:Infantojuvenil
ATTACH;FMTTYPE=image/png:https://boracultura.com.br/wp-content/uploads/2026/03/17737769783565034589312908323533-e1773777071363.png
END:VEVENT
END:VCALENDAR