BEGIN:VCALENDAR
VERSION:2.0
PRODID:-// - ECPv6.15.20//NONSGML v1.0//EN
CALSCALE:GREGORIAN
METHOD:PUBLISH
X-ORIGINAL-URL:https://boracultura.com.br
X-WR-CALDESC:Eventos para 
REFRESH-INTERVAL;VALUE=DURATION:PT1H
X-Robots-Tag:noindex
X-PUBLISHED-TTL:PT1H
BEGIN:VTIMEZONE
TZID:America/Sao_Paulo
BEGIN:STANDARD
TZOFFSETFROM:-0300
TZOFFSETTO:-0300
TZNAME:-03
DTSTART:20250101T000000
END:STANDARD
END:VTIMEZONE
BEGIN:VEVENT
DTSTART;TZID=America/Sao_Paulo:20260401T150000
DTEND;TZID=America/Sao_Paulo:20260401T150000
DTSTAMP:20260423T163354
CREATED:20260319T000822Z
LAST-MODIFIED:20260319T004406Z
UID:2138-1775055600-1775055600@boracultura.com.br
SUMMARY:​Espetáculo "Fala\, Ìbejì"
DESCRIPTION:Espetáculo “Fala\, Ìbejì” leva a magia do Caruru e da ancestralidade para as praças de Salvador \n​Salvador se prepara para receber um projeto que une fé\, arte e gastronomia em plena rua. O espetáculo infantojuvenil “Fala\, Ìbejì”\, realizado pelo COOXIA Coletivo Teatral\, inicia sua temporada gratuita no dia 27 de março\, circulando por diversos bairros da capital baiana. A montagem é uma verdadeira celebração da cultura afro-brasileira\, utilizando o cheiro do dendê\, o som dos atabaques e a ludicidade das brincadeiras de terreiro para contar uma história de resistência e alegria. \n​Com dramaturgia de Luiz Antônio Sena Jr. e direção de Guilherme Hunder\, a obra é bilíngue — integrando Português\, Libras e Yorubá — garantindo acessibilidade e o resgate da tradição oral. A trama acompanha a preparação de um caruru na casa de Mãe Mainha\, onde as crianças Menino\, Menina\, Guri e Erê precisam usar a esperteza para vencer a Morte (chamada apenas de “Ela”) através da dança e do toque ininterrupto dos tambores. \n​O projeto vai além do palco improvisado na rua\, integrando o experimento “Dupla de Dois”\, que promove oficinas de teatro afro-gastronômico em escolas públicas. Nessas atividades\, os ingredientes do caruru tornam-se metáforas dos elementos teatrais\, como o quiabo representando o elenco e o dendê a iluminação. A cenografia de Erick Saboya e os figurinos de Guilherme Hunder reforçam essa estética\, utilizando caixotes de feira\, bacias de ferro e sacos de linhagem para transformar a praça em um quintal de memórias ancestrais. \nAgenda de estreia – Temporada 2026\nRibeira\n📍 Largo do Papagaio\n• 27/03/2026 (sexta-feira)\, às 15h\n• 28/03/2026 (sábado)\, às 16h \nCajazeiras\n📍 Campo da Pronaica\n• 30 e 31/03/2026 (segunda e terça-feira)\, às 15h \nSubúrbio Ferroviário – Plataforma\n📍 Praça São Brás\n• 01/04/2026 (quarta-feira)\, às 15h\n• 02/04/2026 (quinta-feira)\, às 16h \nCentro Histórico\n📍 Largo do Campo Grande (Praça Dois de Julho)\n• 04 a 12/04/2026\n(quintas e sextas\, às 15h | sábados e domingos\, às 16h)
URL:https://boracultura.com.br/index.php/evento/espetaculo-fala-ibeji-4/
LOCATION:Praça São Brás\, Praça São Brás\, Plataforma\, Salvador\, Bahia\, 40710-530\, Brazil
CATEGORIES:Infantojuvenil
ATTACH;FMTTYPE=image/png:https://boracultura.com.br/wp-content/uploads/2026/03/17737769783565034589312908323533-e1773777071363.png
END:VEVENT
END:VCALENDAR