BEGIN:VCALENDAR
VERSION:2.0
PRODID:-// - ECPv6.15.20//NONSGML v1.0//EN
CALSCALE:GREGORIAN
METHOD:PUBLISH
X-ORIGINAL-URL:https://boracultura.com.br
X-WR-CALDESC:Eventos para 
REFRESH-INTERVAL;VALUE=DURATION:PT1H
X-Robots-Tag:noindex
X-PUBLISHED-TTL:PT1H
BEGIN:VTIMEZONE
TZID:America/Sao_Paulo
BEGIN:STANDARD
TZOFFSETFROM:-0300
TZOFFSETTO:-0300
TZNAME:-03
DTSTART:20250101T000000
END:STANDARD
END:VTIMEZONE
BEGIN:VEVENT
DTSTART;TZID=America/Sao_Paulo:20260402T160000
DTEND;TZID=America/Sao_Paulo:20260402T160000
DTSTAMP:20260423T163343
CREATED:20260319T001237Z
LAST-MODIFIED:20260319T004413Z
UID:2141-1775145600-1775145600@boracultura.com.br
SUMMARY:​Espetáculo "Fala\, Ìbejì"
DESCRIPTION:Espetáculo “Fala\, Ìbejì” leva a magia do Caruru e da ancestralidade para as praças de Salvador \n​Salvador se prepara para receber um projeto que une fé\, arte e gastronomia em plena rua. O espetáculo infantojuvenil “Fala\, Ìbejì”\, realizado pelo COOXIA Coletivo Teatral\, inicia sua temporada gratuita no dia 27 de março\, circulando por diversos bairros da capital baiana. A montagem é uma verdadeira celebração da cultura afro-brasileira\, utilizando o cheiro do dendê\, o som dos atabaques e a ludicidade das brincadeiras de terreiro para contar uma história de resistência e alegria. \n​Com dramaturgia de Luiz Antônio Sena Jr. e direção de Guilherme Hunder\, a obra é bilíngue — integrando Português\, Libras e Yorubá — garantindo acessibilidade e o resgate da tradição oral. A trama acompanha a preparação de um caruru na casa de Mãe Mainha\, onde as crianças Menino\, Menina\, Guri e Erê precisam usar a esperteza para vencer a Morte (chamada apenas de “Ela”) através da dança e do toque ininterrupto dos tambores. \n​O projeto vai além do palco improvisado na rua\, integrando o experimento “Dupla de Dois”\, que promove oficinas de teatro afro-gastronômico em escolas públicas. Nessas atividades\, os ingredientes do caruru tornam-se metáforas dos elementos teatrais\, como o quiabo representando o elenco e o dendê a iluminação. A cenografia de Erick Saboya e os figurinos de Guilherme Hunder reforçam essa estética\, utilizando caixotes de feira\, bacias de ferro e sacos de linhagem para transformar a praça em um quintal de memórias ancestrais. \nAgenda de estreia – Temporada 2026\nRibeira\n📍 Largo do Papagaio\n• 27/03/2026 (sexta-feira)\, às 15h\n• 28/03/2026 (sábado)\, às 16h \nCajazeiras\n📍 Campo da Pronaica\n• 30 e 31/03/2026 (segunda e terça-feira)\, às 15h \nSubúrbio Ferroviário – Plataforma\n📍 Praça São Brás\n• 01/04/2026 (quarta-feira)\, às 15h\n• 02/04/2026 (quinta-feira)\, às 16h \nCentro Histórico\n📍 Largo do Campo Grande (Praça Dois de Julho)\n• 04 a 12/04/2026\n(quintas e sextas\, às 15h | sábados e domingos\, às 16h)
URL:https://boracultura.com.br/index.php/evento/espetaculo-fala-ibeji-5/
LOCATION:Praça São Brás\, Praça São Brás\, Plataforma\, Salvador\, Bahia\, 40710-530\, Brazil
CATEGORIES:Infantojuvenil
ATTACH;FMTTYPE=image/png:https://boracultura.com.br/wp-content/uploads/2026/03/17737769783565034589312908323533-e1773777071363.png
END:VEVENT
BEGIN:VEVENT
DTSTART;TZID=America/Sao_Paulo:20260402T190000
DTEND;TZID=America/Sao_Paulo:20260402T190000
DTSTAMP:20260423T163343
CREATED:20260401T210712Z
LAST-MODIFIED:20260401T210749Z
UID:2460-1775156400-1775156400@boracultura.com.br
SUMMARY:Alice Moraes no Bão Stiep
DESCRIPTION:Alice Moraes Abre o Feriadão da Semana Santa com Show de Três Horas em Salvador \nA véspera de feriado em Salvador ganha trilha sonora à altura: a cantora Alice Moraes sobe ao palco do Bão Stiep nesta quinta-feira\, 2 de abril\, a partir das 19h\, para uma noite de três horas de muito axé\, arrocha e canções autorais. \nO repertório promete passear por estilos musicais diversos\, misturando releituras e composições próprias em um formato pensado para manter o público na pista do início ao fim. Entre os destaques da noite está o single recém-lançado “Menina Metralhadora”\, já disponível nas plataformas digitais (https://open.spotify.com/album/7GVqky700gN1Fa8e3UlNhY?si=QgvCH1CiSBCM3-p6SeKsFg). “Estou preparando um show especial\, com muita entrega e um repertório que tem tudo a ver com esse clima de feriadão. Vai ser uma noite para cantar junto\, dançar e aproveitar cada momento”\, antecipa a artista. \nServiço\nAlice Moraes no Bão Stiep\n📅 Quinta-feira\, 2 de abril de 2026\n🕖 A partir das 19h\n📍 Bão Stiep — Salvador\, BA\n🎵 “Menina Metralhadora”: https://open.spotify.com/album/7GVqky700gN1Fa8e3UlNhY?si=QgvCH1CiSBCM3-p6SeKsFg
URL:https://boracultura.com.br/index.php/evento/alice-moraes-no-bao-stiep/
LOCATION:Bão Stiep\, R. Manoel Joaquim Alves\, 314\, Salvador\, Bahia\, 41770-165\, Brazil
CATEGORIES:Música
ATTACH;FMTTYPE=image/jpeg:https://boracultura.com.br/wp-content/uploads/2026/04/17750775910409065355140624678926.jpg
END:VEVENT
BEGIN:VEVENT
DTSTART;TZID=America/Sao_Paulo:20260402T190000
DTEND;TZID=America/Sao_Paulo:20260402T190000
DTSTAMP:20260423T163343
CREATED:20260401T211705Z
LAST-MODIFIED:20260401T211734Z
UID:2463-1775156400-1775156400@boracultura.com.br
SUMMARY:Ondinas II - Osba
DESCRIPTION:Musicistas da OSBA Celebram Força Feminina no Projeto “Ondinas II” nesta Quinta (02) em Salvador \nDez musicistas da Orquestra Sinfônica da Bahia (OSBA) se reúnem nesta quinta-feira\, 2 de abril\, às 19h\, no Teatro do Goethe-Institut\, no Corredor da Vitória\, para a segunda edição do projeto “Ondinas”. Com formação exclusivamente feminina\, o conjunto apresenta um programa que atravessa séculos — de Mozart e Beethoven a compositoras do século XX como Lili Boulanger e Astrid Spitznagel\, além do compositor Vincent Persichetti. \nO concerto integra a Série Carybé\, projeto da OSBA dedicado à música de câmara e às formações mais intimistas do repertório clássico. A proposta central segue a mesma da primeira edição\, realizada em setembro de 2025: colocar em destaque a força feminina presente no corpo artístico da Orquestra. Para esta edição\, o grupo ganhou novas integrantes e um programa inteiramente renovado. “Nós\, mulheres\, somos plurais. O programa é diverso assim como somos: tem músicas do período clássico ao moderno\, e isso nos representa”\, afirma a violinista Lírida Lima. \nO repertório da noite abre com a “Sinfonia Concertante” de Mozart em versão para sexteto de cordas\, seguida pela “Serenata” de Beethoven. O programa avança com o “Noturno” de Lili Boulanger — primeira mulher a vencer o Prix de Rome —\, “The Hollow Men” de Persichetti\, com o trompete de Alana Rana em destaque\, e encerra com o “Quarteto de Cordas” da compositora contemporânea vienense Astrid Spitznagel. Os ingressos custam R$ 30 (inteira) e R$ 15 (meia)\, à venda pela plataforma Sympla. \nServiço\nOSBA — Série Carybé: Ondinas II\n📅 Quinta-feira\, 2 de abril de 2026\n🕖 19h\n📍 Teatro do Goethe-Institut — Corredor da Vitória\, Salvador\, BA\n🎟️ R$ 30 (inteira) e R$ 15 (meia) — à venda em: https://www.sympla.com.br/evento/serie-carybe-da-osba-ondinas-ii/3368991
URL:https://boracultura.com.br/index.php/evento/ondinas-ii-osba/
CATEGORIES:Música
ATTACH;FMTTYPE=image/png:https://boracultura.com.br/wp-content/uploads/2026/04/17750778232742797446795060314887.png
END:VEVENT
END:VCALENDAR