BEGIN:VCALENDAR
VERSION:2.0
PRODID:-// - ECPv6.15.20//NONSGML v1.0//EN
CALSCALE:GREGORIAN
METHOD:PUBLISH
X-ORIGINAL-URL:https://boracultura.com.br
X-WR-CALDESC:Eventos para 
REFRESH-INTERVAL;VALUE=DURATION:PT1H
X-Robots-Tag:noindex
X-PUBLISHED-TTL:PT1H
BEGIN:VTIMEZONE
TZID:America/Sao_Paulo
BEGIN:STANDARD
TZOFFSETFROM:-0300
TZOFFSETTO:-0300
TZNAME:-03
DTSTART:20250101T000000
END:STANDARD
END:VTIMEZONE
BEGIN:VEVENT
DTSTART;VALUE=DATE:20260410
DTEND;VALUE=DATE:20260411
DTSTAMP:20260423T172448
CREATED:20260409T210038Z
LAST-MODIFIED:20260409T210038Z
UID:2649-1775779200-1775865599@boracultura.com.br
SUMMARY:Jairo Barboza leva forró para a 2ª Piritiba AgroFest nesta sexta-feira (10)
DESCRIPTION:O interior da Bahia entra no clima junino antes mesmo do mês de junho. Nesta sexta-feira (10)\, o cantor Jairo Barboza se apresenta na 2ª edição da Piritiba AgroFest\, em Piritiba (BA)\, com um repertório animado e cheio de clássicos do forró nordestino. O evento é gratuito e aberto ao público\, e contará com outras atrações musicais ao longo da noite. \nMais do que uma festa\, a AgroFest é também uma Feira de Animais\, Artesanato e Agricultura Familiar — um espaço de encontro e valorização da força do campo que já se consolidou como tradição entre moradores e visitantes da cidade.\nConsiderado um dos principais nomes do forró baiano\, Jairo Barboza é reconhecido pela voz grave e marcante e pela fidelidade às raízes da cultura regional. Ao longo da carreira\, construiu parcerias com nomes como Amelinha\, Adelmário Coelho\, Santana\, Del Feliz e Trio Nordestino. Em 2016\, lançou o projeto Forrozeiro Prime\, conquistando admiradores em todo o Brasil. Também atuou como curador de festivais importantes\, como o Festival de Anguera e o Festival de Serra Preta. Em dezembro de 2025\, estreou o projeto Forró do Rei no Largo da Mariquita\, em Salvador\, reunindo grandes nomes do gênero. \nSERVIÇO\n2ª Piritiba AgroFest — Show de Jairo Barboza\nQuando: Sexta-feira\, 10 de abril de 2026\nOnde: Piritiba (BA)\nEntrada: Gratuita \nFoto: Divulgação
URL:https://boracultura.com.br/index.php/evento/jairo-barboza-leva-forro-para-a-2a-piritiba-agrofest-nesta-sexta-feira-10/
CATEGORIES:Eventos
ATTACH;FMTTYPE=image/jpeg:https://boracultura.com.br/wp-content/uploads/2026/04/IMG-20260409-WA0242.jpg
END:VEVENT
END:VCALENDAR