BEGIN:VCALENDAR
VERSION:2.0
PRODID:-// - ECPv6.15.20//NONSGML v1.0//EN
CALSCALE:GREGORIAN
METHOD:PUBLISH
X-ORIGINAL-URL:https://boracultura.com.br
X-WR-CALDESC:Eventos para 
REFRESH-INTERVAL;VALUE=DURATION:PT1H
X-Robots-Tag:noindex
X-PUBLISHED-TTL:PT1H
BEGIN:VTIMEZONE
TZID:America/Sao_Paulo
BEGIN:STANDARD
TZOFFSETFROM:-0300
TZOFFSETTO:-0300
TZNAME:-03
DTSTART:20250101T000000
END:STANDARD
END:VTIMEZONE
BEGIN:VEVENT
DTSTART;TZID=America/Sao_Paulo:20260424T190000
DTEND;TZID=America/Sao_Paulo:20260424T210000
DTSTAMP:20260423T135057
CREATED:20260423T011357Z
LAST-MODIFIED:20260423T012446Z
UID:2926-1777057200-1777064400@boracultura.com.br
SUMMARY:Diogo Nogueira: Infinito Samba
DESCRIPTION:Diogo Nogueira anuncia a grandiosa turnê comemorativa Infinito Samba um espetáculo que celebra duas décadas de uma trajetória marcada pela excelência\, reinvenção\, e a inegociável reverência ao samba de raiz. A turnê\, que chega dia 24 de abril\, em Salvador\, será um marco na força cênica do gênero\, unindo a ancestralidade da música brasileira com um olhar inovador para o futuro no palco da Concha Acústica. O projeto “Infinito Samba” é apresentado pelo Ministério da Cultura e Petrobras via Lei Federal de Incentivo à Cultura\, e realizado pela Orin Produções e PECK. \nConsiderado o elo entre o samba de ontem e o de amanhã\, Diogo Nogueira se consolidou como uma referência da MPB contemporânea\, carregando o carisma inconfundível de sua linhagem e a força de uma musicalidade que transcende gerações. Infinito Samba traduz essa jornada intensa em uma experiência imersiva de música\, repertório e estética cênica. \nO público de Salvador será recebido com um show em que Diogo sobe ao palco acompanhado por sua banda e uma grande orquestra. Concebida para dialogar de forma moderna com o ritmo e a emoção do samba\, a formaçãoapresentará arranjos inéditos e envolventes. Rafael Dragaud\, Diretor Artístico da turnê\, descreve o processo: “A discussão de repertório foi um mergulho tão sentimental e emocional quanto histórico. O samba é tão gigante que é uma espécie de multiverso\, capaz de dialogar com todas as dimensões do Brasil.” \nO repertório é uma seleção cuidadosa de grandes sucessos da carreira de Diogo\, releituras afetivas que homenageiam suas influências (do filho de João Nogueira ao protagonista do agora) e novas composições. O roteiro musical é uma viagem poética que inclui clássicos atemporais e blocos dedicados às canções de amor\, à gafieira e ao clima de roda da favela. \nO destaque de Infinito Samba é sua proposta visual. \nCenário\, luz e figurino integram- se em uma experiência de impacto. “Em relação às inspirações\, posso dizer que elas são ponto de partida para serem todas misturadas num caldeirão onde o que mais vai determinar os caminhos\, as escolhas é a emoção que a música tem que proporcionar. Para mim os conceitos eles vão até a página 2 – servem para a gente começar a nossa viagem criativa\, mas em determinado momento eles são feitos andaimes. A gente constrói um prédio e temos que tirá-los”\, diz Dragaud. \nA celebração dos 20 anos de carreira de Diogo Nogueira é um testemunho de sua coragem em não se acomodar. O artista sabe respeitar o tempo com uma habilidade quase culinária\, ampliou seus horizontes\, consolidou suas origens\, mas segue buscando novos destinos para sua música\, abrindo portas e pistas para um futuro ainda mais promissor. O artista\, que fez de sua hereditariedade uma senha para desvendar os segredos do samba\, mostra-se pronto para romper novas fictícias fronteiras\, sem medo de ser feliz. \nServiço:\nDiogo Nogueira: Infinito Samba\nQuando: 24 de abril (sexta-feira)\, às 19h\nOnde: Concha Acústica do Teatro Castro Alves\nClassificação indicativa: Livre\nVendas: Os ingressos para o espetáculo podem ser adquiridos na bilheteria do Teatro Castro Alves (informações em www.ba.gov.br/tca/bilheteria) e no site da Sympla (www.sympla.com.br). \nDurante as obras do Novo TCA\, o acesso à Concha Acústica será realizado exclusivamente pela Ladeira da Fonte (acesso de baixo). O estacionamento do TCA permanece fechado\, e o público poderá utilizar o estacionamento da Ferreira Costa – Barris\, que terá seu horário de funcionamento estendido até as 22h nos dias de evento. \nFoto: Divulgação. Instagram artista
URL:https://boracultura.com.br/index.php/evento/diogo-nogueira-infinito-samba/
LOCATION:Concha Acústica\, Largo do Campo Grande\, Praça Dois de Julho\, s/n\, Salvador\, Bahia\, 40020-680\, Brazil
CATEGORIES:Música
ATTACH;FMTTYPE=image/png:https://boracultura.com.br/wp-content/uploads/2026/04/Captura-de-tela-2026-04-22-221037-e1776906741317.png
END:VEVENT
BEGIN:VEVENT
DTSTART;TZID=America/Sao_Paulo:20260425T190000
DTEND;TZID=America/Sao_Paulo:20260425T210000
DTSTAMP:20260423T135057
CREATED:20260423T012042Z
LAST-MODIFIED:20260423T012042Z
UID:2929-1777143600-1777150800@boracultura.com.br
SUMMARY:Gilsons
DESCRIPTION:O trio Gilsons\, comandado por José\, João e Fran\, estreia em Salvador a turnê 2026 que celebra o lançamento do novo álbum levando seus mais novos sucessos para todos os cantos do Brasil. \nDesde a estreia em 2018\, os Gilsons vêm consolidando seu espaço no cenário musical brasileiro e internacional\, combinando elementos da MPB com uma pegada contemporânea. O trio se destacou com hits como “Várias Queixas”\, “Love Love”\, “Devagarinho” e “Deixa Fluir”\, além de colaborações com artistas como Julia Mestre\, Lagum\, Jota.pê\, Rachel Reis e Mulú. Seu álbum de estreia\, Pra Gente Acordar\, rendeu indicações a prêmios importantes\, como o Grammy Latino\, Prêmio Multishow e Prêmio da Música Brasileira\, além de garantir presença em grandes festivais como Rock in Rio\, Lollapalooza e Coala Festival. \nApós colecionar ‘sold out’ pelo Brasil e pelo mundo – Argentina\, Uruguai\, Estados Unidos\, Inglaterra\, Espanha\, Alemanha\, Holanda e Irlanda – com seu primeiro disco\, “Pra Gente Acordar”\, o trio chega em 2026 com um novo álbum que promete fazer história em novas cidades. \nServiço\nGilsons\nQuando: 25 de abril (sábado)\, às 19h\nOnde: Concha Acústica do Teatro Castro Alves\nClassificação indicativa: Livre\nVendas: Os ingressos para o espetáculo podem ser adquiridos na bilheteria do Teatro Castro Alves (informações em www.ba.gov.br/tca/bilheteria) e no site da Sympla (www.sympla.com.br). \nDurante as obras do Novo TCA\, o acesso à Concha Acústica será realizado exclusivamente pela Ladeira da Fonte (acesso de baixo). O estacionamento do TCA permanece fechado\, e o público poderá utilizar o estacionamento da Ferreira Costa – Barris\, que terá seu horário de funcionamento estendido até as 22h nos dias de evento. \nFoto: Divulgação. Site TCA
URL:https://boracultura.com.br/index.php/evento/gilsons/
LOCATION:Concha Acústica\, Largo do Campo Grande\, Praça Dois de Julho\, s/n\, Salvador\, Bahia\, 40020-680\, Brazil
CATEGORIES:Música
ATTACH;FMTTYPE=image/png:https://boracultura.com.br/wp-content/uploads/2026/04/Captura-de-tela-2026-04-22-221903.png
END:VEVENT
BEGIN:VEVENT
DTSTART;TZID=America/Sao_Paulo:20260426T190000
DTEND;TZID=America/Sao_Paulo:20260426T210000
DTSTAMP:20260423T135057
CREATED:20260423T012917Z
LAST-MODIFIED:20260423T012917Z
UID:2933-1777230000-1777237200@boracultura.com.br
SUMMARY:Concha Para Todos - Zélia Duncan
DESCRIPTION:A cantora e compositora Zélia Duncan será a segunda atração em 2026 do Concha para Todos\, projeto realizado pela Tapis Rouge e pela MG Produções que promove shows na Concha Acústica do TCA a preços mais acessíveis. \nA apresentação será a primeira do show ‘Bailão ZD’ em Salvador. O repertório reúnes músicas de todas as fases da trajetória de Zélia\, inclusive\, os sucessos ‘Catedral’\, ‘Alma’ e ‘Nos Lençóis Desse Reggae’. No palco\, a cantora é acompanhada por Ézio Filho (direção musical e baixo)\, Webster Santos (violão\, guitarra e cavaco)\, Léo Brandão (teclado e acordeon)\, Christiano Galvão (bateria) e Senhorita Paola e Luanah Jones (vocais). \nA artista fluminense começou a cantar profissionalmente em 1981 e se tornou nacionalmente conhecida com ‘Catedral’\, em 1995. Ao longo de 40 anos de carreira\, lançou 15 discos e cinco DVDs solo. Ganhou vários prêmios\, gravou com grandes nomes da música brasileira e realizou projetos importantes\, como o CD e DVD ‘Eu Me transformo em Outras’\, que fez parte da nova formação do grupo Os Mutantes (2007)\, e o CD de samba ‘Antes do Mundo Acabar’ (2015). \nZélia ainda atuou como atriz nos espetáculos ‘Totatiando’ (2011)\, ‘Alegria\, Alegria’ (2017) e ‘Mordidas’ (2018). Em 2019\, após dez anos sem um disco pop autoral\, lança ‘Tudo É Um’\, graças ao qual\, mais uma vez\, concorreu ao Grammy Latino. Entre 2015 e 2017\, foi colunista semanal do jornal O Globo. Também em 2015\, passou a assinar o roteiro do Prêmio da Música Brasileira\, por cinco anos seguidos. \nSobre o projeto \nIdealizado e executado pela Tapis Rouge e pela MG Produções\, o Concha para Todos nasceu com o objetivo de restabelecer — ou fortalecer ou\, ainda\, criar — laços entre a Concha Acústica do TCA e os soteropolitanos\, palco pelo qual costumam passar os maiores nomes da música brasileira que vêm a Salvador e que já rendeu momentos inesquecíveis a milhões de pessoas ao longo de seus mais de 60 anos. Desde o início\, o projeto já levou ao palco o trio Xangai\, Elomar e Renato Teixeira; Lobão; Zizi e Luiza Possi; e Marina Lima. \nXodó de público e artistas que são adeptos de apresentações mais intimistas\, a Concha se destaca por ser um espaço a céu aberto\, com singular distribuição da ocupação do espaço\, sem assentos ou lugares marcados. Além disso\, são características marcantes sua identidade jovial e sua histórica disposição à diversidade\, que serve de premissa para o projeto. \nServiço\nConcha Para Todos – Zélia Duncan\nQuando: 26 de abril (domingo)\, às 19h\nOnde: Concha Acústica do Teatro Castro Alves\nClassificação indicativa: 18 anos.\nVendas: Os ingressos para o espetáculo podem ser adquiridos na bilheteria do Teatro Castro Alves (informações em www.ba.gov.br/tca/bilheteria) e no site da Sympla (www.sympla.com.br). \nDurante as obras do Novo TCA\, o acesso à Concha Acústica será realizado exclusivamente pela Ladeira da Fonte (acesso de baixo). O estacionamento do TCA permanece fechado\, e o público poderá utilizar o estacionamento da Ferreira Costa – Barris\, que terá seu horário de funcionamento estendido até as 22h nos dias de evento.
URL:https://boracultura.com.br/index.php/evento/concha-para-todos-zelia-duncan/
LOCATION:Concha Acústica\, Largo do Campo Grande\, Praça Dois de Julho\, s/n\, Salvador\, Bahia\, 40020-680\, Brazil
CATEGORIES:Música
ATTACH;FMTTYPE=image/png:https://boracultura.com.br/wp-content/uploads/2026/04/Captura-de-tela-2026-04-22-222429.png
END:VEVENT
END:VCALENDAR