BEGIN:VCALENDAR
VERSION:2.0
PRODID:-// - ECPv6.15.20//NONSGML v1.0//EN
CALSCALE:GREGORIAN
METHOD:PUBLISH
X-ORIGINAL-URL:https://boracultura.com.br
X-WR-CALDESC:Eventos para 
REFRESH-INTERVAL;VALUE=DURATION:PT1H
X-Robots-Tag:noindex
X-PUBLISHED-TTL:PT1H
BEGIN:VTIMEZONE
TZID:America/Sao_Paulo
BEGIN:STANDARD
TZOFFSETFROM:-0300
TZOFFSETTO:-0300
TZNAME:-03
DTSTART:20250101T000000
END:STANDARD
END:VTIMEZONE
BEGIN:VEVENT
DTSTART;TZID=America/Sao_Paulo:20260305T080000
DTEND;TZID=America/Sao_Paulo:20260305T170000
DTSTAMP:20260423T170951
CREATED:20260305T200713Z
LAST-MODIFIED:20260305T200713Z
UID:1792-1772697600-1772730000@boracultura.com.br
SUMMARY:Donas da Proa Toda
DESCRIPTION:Donas da Proa Toda: 4ª Edição Celebra o Protagonismo Feminino em Lauro de Freitas \n​O protagonismo feminino ganha destaque na 4ª edição do evento Donas da Proa Toda\, que acontece neste sábado\, 7 de março\, a partir das 17h. Realizado no Bar da Fábrica da Proa Cervejaria\, em Lauro de Freitas\, o encontro celebra o Mês da Mulher unindo música\, empreendedorismo e a força da produção cervejeira artesanal. \n​A mestre cervejeira Débora Lehnen\, nome à frente da Proa Cervejaria\, idealizou o evento como um espaço de visibilidade e conexão para as mulheres no mercado. Além de consolidar a marca como referência na cena baiana\, Débora promove uma rede de negócios femininos por meio de uma vitrine colaborativa com exposição e venda de produtos autorais durante a noite. \n​A animação musical será comandada pelo projeto A Trois\, formado por Renata Bastos\, Bruna Barreto e Julia Dell’Orto. O trio apresentará um repertório especial em homenagem às grandes vozes femininas da música\, oferecendo uma trilha sonora que reforça o clima de reconhecimento e celebração.\n​\nSERVIÇO\nO que: 4ª Edição do Donas da Proa Toda\nQuando: Sábado\, 07 de março\, às 17h\nOnde: Bar da Fábrica da Proa Cervejaria – Lauro de Freitas\, BA\nAtração Musical: Projeto A Trois (couvert artístico de R$ 15)\nDestaques: Exposição de empreendedoras femininas e cerveja artesanal\nInformações: @proacervejaria
URL:https://boracultura.com.br/index.php/evento/donas-da-proa-toda-2/
LOCATION:Bahia
CATEGORIES:Música
ATTACH;FMTTYPE=image/png:https://boracultura.com.br/wp-content/uploads/2026/03/1772733521760.png
END:VEVENT
BEGIN:VEVENT
DTSTART;TZID=America/Sao_Paulo:20260312T200000
DTEND;TZID=America/Sao_Paulo:20260312T200000
DTSTAMP:20260423T170951
CREATED:20260305T200505Z
LAST-MODIFIED:20260305T200505Z
UID:1789-1773345600-1773345600@boracultura.com.br
SUMMARY:ARROCHA – aceita esse musical que dói menos
DESCRIPTION:​O Teatro Módulo\, na Pituba\, recebe nesta quinta-feira (05)\, às 20h\, a estreia da comédia musical “ARROCHA – aceita esse musical que dói menos”. Nova realização do coletivo Toca Criações Artísticas\, com direção de Edvard Passos\, o espetáculo une teatro\, dança e música para narrar histórias de amor inspiradas no fenômeno cultural do Recôncavo Baiano. O elenco\, composto por Alan Miranda\, Cícero Locijá\, Danilo Cairo\, Mariana Borges e Talis Castro\, interpreta hits de ícones como Pablo\, Nara Costa e Silvano Salles. \n​A trama se desenvolve no bar Rabo de Ouro\, onde o proprietário Bené e seus amigos compartilham crônicas sobre a vulnerabilidade do coração e a “sofrência” característica do gênero. Com texto de Alan Miranda e Edvard Passos\, a peça conta com direção musical de Luciano Salvador Bahia\, que recria arranjos originais de sucessos como “Vingança do Amor” e “Locutor” para serem cantados ao vivo. A montagem celebra os 18 anos do Toca Criações Artísticas e conta com o apoio da Política Nacional Aldir Blanc (PNAB).\n​\nSERVIÇO\n​O que: Musical “ARROCHA – aceita esse musical que dói menos”\n​Quando: 05 a 26 de março (quintas-feiras)\, às 20h\n​Onde: Teatro Módulo (Av. Prof. Magalhães Neto\, 1177 – Pituba)\n​Ingressos: R$ 40 (inteira) e R$ 20 (meia)\n​Vendas: Sympla (https://bileto.sympla.com.br/event/115737) e bilheteria do teatro\n​Classificação: 16 anos
URL:https://boracultura.com.br/index.php/evento/arrocha-aceita-esse-musical-que-doi-menos/
LOCATION:Teatro Módulo\, Av. Prof. Magalhães Neto\, 1177\, Salvador\, Bahia\, 41810-011\, Brazil
CATEGORIES:Teatro
ATTACH;FMTTYPE=image/jpeg:https://boracultura.com.br/wp-content/uploads/2026/03/17727342673113850706609690333819.jpg
END:VEVENT
BEGIN:VEVENT
DTSTART;TZID=America/Sao_Paulo:20260319T200000
DTEND;TZID=America/Sao_Paulo:20260319T200000
DTSTAMP:20260423T170951
CREATED:20260320T040500Z
LAST-MODIFIED:20260320T040500Z
UID:2208-1773950400-1773950400@boracultura.com.br
SUMMARY:ARROCHA – aceita esse musical que dói menos
DESCRIPTION:​O Teatro Módulo\, na Pituba\, recebe nesta quinta-feira (05)\, às 20h\, a estreia da comédia musical “ARROCHA – aceita esse musical que dói menos”. Nova realização do coletivo Toca Criações Artísticas\, com direção de Edvard Passos\, o espetáculo une teatro\, dança e música para narrar histórias de amor inspiradas no fenômeno cultural do Recôncavo Baiano. O elenco\, composto por Alan Miranda\, Cícero Locijá\, Danilo Cairo\, Mariana Borges e Talis Castro\, interpreta hits de ícones como Pablo\, Nara Costa e Silvano Salles. \n​A trama se desenvolve no bar Rabo de Ouro\, onde o proprietário Bené e seus amigos compartilham crônicas sobre a vulnerabilidade do coração e a “sofrência” característica do gênero. Com texto de Alan Miranda e Edvard Passos\, a peça conta com direção musical de Luciano Salvador Bahia\, que recria arranjos originais de sucessos como “Vingança do Amor” e “Locutor” para serem cantados ao vivo. A montagem celebra os 18 anos do Toca Criações Artísticas e conta com o apoio da Política Nacional Aldir Blanc (PNAB).\n​\nSERVIÇO\n​O que: Musical “ARROCHA – aceita esse musical que dói menos”\n​Quando: 05 a 26 de março (quintas-feiras)\, às 20h\n​Onde: Teatro Módulo (Av. Prof. Magalhães Neto\, 1177 – Pituba)\n​Ingressos: R$ 40 (inteira) e R$ 20 (meia)\n​Vendas: Sympla (https://bileto.sympla.com.br/event/115737) e bilheteria do teatro\n​Classificação: 16 anos
URL:https://boracultura.com.br/index.php/evento/arrocha-aceita-esse-musical-que-doi-menos-2/
LOCATION:Teatro Módulo\, Av. Prof. Magalhães Neto\, 1177\, Salvador\, Bahia\, 41810-011\, Brazil
CATEGORIES:Teatro
ATTACH;FMTTYPE=image/jpeg:https://boracultura.com.br/wp-content/uploads/2026/03/17727342673113850706609690333819.jpg
END:VEVENT
BEGIN:VEVENT
DTSTART;TZID=America/Sao_Paulo:20260326T200000
DTEND;TZID=America/Sao_Paulo:20260326T200000
DTSTAMP:20260423T170951
CREATED:20260320T040544Z
LAST-MODIFIED:20260320T040544Z
UID:2210-1774555200-1774555200@boracultura.com.br
SUMMARY:ARROCHA – aceita esse musical que dói menos
DESCRIPTION:​O Teatro Módulo\, na Pituba\, recebe nesta quinta-feira (05)\, às 20h\, a estreia da comédia musical “ARROCHA – aceita esse musical que dói menos”. Nova realização do coletivo Toca Criações Artísticas\, com direção de Edvard Passos\, o espetáculo une teatro\, dança e música para narrar histórias de amor inspiradas no fenômeno cultural do Recôncavo Baiano. O elenco\, composto por Alan Miranda\, Cícero Locijá\, Danilo Cairo\, Mariana Borges e Talis Castro\, interpreta hits de ícones como Pablo\, Nara Costa e Silvano Salles. \n​A trama se desenvolve no bar Rabo de Ouro\, onde o proprietário Bené e seus amigos compartilham crônicas sobre a vulnerabilidade do coração e a “sofrência” característica do gênero. Com texto de Alan Miranda e Edvard Passos\, a peça conta com direção musical de Luciano Salvador Bahia\, que recria arranjos originais de sucessos como “Vingança do Amor” e “Locutor” para serem cantados ao vivo. A montagem celebra os 18 anos do Toca Criações Artísticas e conta com o apoio da Política Nacional Aldir Blanc (PNAB).\n​\nSERVIÇO\n​O que: Musical “ARROCHA – aceita esse musical que dói menos”\n​Quando: 05 a 26 de março (quintas-feiras)\, às 20h\n​Onde: Teatro Módulo (Av. Prof. Magalhães Neto\, 1177 – Pituba)\n​Ingressos: R$ 40 (inteira) e R$ 20 (meia)\n​Vendas: Sympla (https://bileto.sympla.com.br/event/115737) e bilheteria do teatro\n​Classificação: 16 anos
URL:https://boracultura.com.br/index.php/evento/arrocha-aceita-esse-musical-que-doi-menos-3/
LOCATION:Teatro Módulo\, Av. Prof. Magalhães Neto\, 1177\, Salvador\, Bahia\, 41810-011\, Brazil
CATEGORIES:Teatro
ATTACH;FMTTYPE=image/jpeg:https://boracultura.com.br/wp-content/uploads/2026/03/17727342673113850706609690333819.jpg
END:VEVENT
END:VCALENDAR